BEGIN:VCALENDAR
VERSION:2.0
PRODID:-//Federación de Bandas de Música de la Región de Murcia - ECPv5.5.0.1//NONSGML v1.0//EN
CALSCALE:GREGORIAN
METHOD:PUBLISH
X-WR-CALNAME:Federación de Bandas de Música de la Región de Murcia
X-ORIGINAL-URL:https://www.febandasrmurcia.com
X-WR-CALDESC:Eventos para Federación de Bandas de Música de la Región de Murcia
BEGIN:VTIMEZONE
TZID:Europe/Madrid
BEGIN:DAYLIGHT
TZOFFSETFROM:+0100
TZOFFSETTO:+0200
TZNAME:CEST
DTSTART:20210328T010000
END:DAYLIGHT
BEGIN:STANDARD
TZOFFSETFROM:+0200
TZOFFSETTO:+0100
TZNAME:CET
DTSTART:20211031T010000
END:STANDARD
END:VTIMEZONE
BEGIN:VEVENT
DTSTART;TZID=Europe/Madrid:20210628T193000
DTEND;TZID=Europe/Madrid:20210628T213000
DTSTAMP:20260425T174907
CREATED:20210713T091014Z
LAST-MODIFIED:20210713T091014Z
UID:6699-1624908600-1624915800@www.febandasrmurcia.com
SUMMARY:SEMANA DE LA MÚSICA - Asociación Musical "Maestro Eugenio Calderón" de Mazarrón
DESCRIPTION:
URL:https://www.febandasrmurcia.com/eventos/semana-de-la-musica-asociacion-musical-maestro-eugenio-calderon-de-mazarron/
ATTACH;FMTTYPE=image/jpeg:https://www.febandasrmurcia.com/wp-content/uploads/2021/07/SEMANA-DE-LA-MUSICA-Asoc.-Musical-Maestro-Eugenio-Calderon.jpeg
END:VEVENT
BEGIN:VEVENT
DTSTART;TZID=Europe/Madrid:20210629T193000
DTEND;TZID=Europe/Madrid:20210629T213000
DTSTAMP:20260425T174907
CREATED:20210713T091205Z
LAST-MODIFIED:20210713T091205Z
UID:6701-1624995000-1625002200@www.febandasrmurcia.com
SUMMARY:SEMANA DE LA MÚSICA - Asociación Musical "Maestro Eugenio Calderón" de Mazarrón
DESCRIPTION:
URL:https://www.febandasrmurcia.com/eventos/semana-de-la-musica-asociacion-musical-maestro-eugenio-calderon-de-mazarron-2/
ATTACH;FMTTYPE=image/jpeg:https://www.febandasrmurcia.com/wp-content/uploads/2021/07/SEMANA-DE-LA-MUSICA-Asoc.-Musical-Maestro-Eugenio-Calderon.jpeg
END:VEVENT
BEGIN:VEVENT
DTSTART;TZID=Europe/Madrid:20210630T193000
DTEND;TZID=Europe/Madrid:20210630T213000
DTSTAMP:20260425T174907
CREATED:20210713T091332Z
LAST-MODIFIED:20210713T091332Z
UID:6703-1625081400-1625088600@www.febandasrmurcia.com
SUMMARY:SEMANA DE LA MÚSICA - Asociación Musical "Maestro Eugenio Calderón" de Mazarrón
DESCRIPTION:
URL:https://www.febandasrmurcia.com/eventos/semana-de-la-musica-asociacion-musical-maestro-eugenio-calderon-de-mazarron-3/
ATTACH;FMTTYPE=image/jpeg:https://www.febandasrmurcia.com/wp-content/uploads/2021/07/SEMANA-DE-LA-MUSICA-Asoc.-Musical-Maestro-Eugenio-Calderon.jpeg
END:VEVENT
BEGIN:VEVENT
DTSTART;TZID=Europe/Madrid:20210702T213000
DTEND;TZID=Europe/Madrid:20210702T233000
DTSTAMP:20260425T174907
CREATED:20210713T082754Z
LAST-MODIFIED:20210713T082754Z
UID:6653-1625261400-1625268600@www.febandasrmurcia.com
SUMMARY:CONCIERTO DE VERANO 2021 - Asociación Músico Cultural Euterpe
DESCRIPTION:
URL:https://www.febandasrmurcia.com/eventos/concierto-de-verano-2021-asociacion-musico-cultural-euterpe/
ATTACH;FMTTYPE=image/jpeg:https://www.febandasrmurcia.com/wp-content/uploads/2021/07/CONCIERTO-DE-VERANO-2021-Asociacion-Musico-Cultural-Euterpe.jpeg
END:VEVENT
BEGIN:VEVENT
DTSTART;TZID=Europe/Madrid:20210702T220000
DTEND;TZID=Europe/Madrid:20210702T233000
DTSTAMP:20260425T174907
CREATED:20210713T085508Z
LAST-MODIFIED:20210713T085509Z
UID:6683-1625263200-1625268600@www.febandasrmurcia.com
SUMMARY:I CONCIERTO DE VERANO - Banda Sinfónica Patronato Musical Aguileño "Francisco Díaz Romero"
DESCRIPTION:
URL:https://www.febandasrmurcia.com/eventos/i-concierto-de-verano-banda-sinfonica-patronato-musical-aguileno-francisco-diaz-romero/
ATTACH;FMTTYPE=image/jpeg:https://www.febandasrmurcia.com/wp-content/uploads/2021/07/I-CONCIERTO-DE-VERANO-Banda-Sinfonica-Patronato-Musical-Aguileno-Francisco-Diaz-Romero.jpeg
END:VEVENT
BEGIN:VEVENT
DTSTART;TZID=Europe/Madrid:20210703T210000
DTEND;TZID=Europe/Madrid:20210703T230000
DTSTAMP:20260425T174907
CREATED:20210713T085201Z
LAST-MODIFIED:20210713T085201Z
UID:6679-1625346000-1625353200@www.febandasrmurcia.com
SUMMARY:EN BUSCA DE LA MÚSICA PERDIDA - Banda Titular Asociación músico-cultural "Las Musas" de Guadalupe
DESCRIPTION:
URL:https://www.febandasrmurcia.com/eventos/en-busca-de-la-musica-perdida-banda-titular-asociacion-musico-cultural-las-musas-de-guadalupe/
ATTACH;FMTTYPE=image/jpeg:https://www.febandasrmurcia.com/wp-content/uploads/2021/07/EN-BUSCA-DE-LA-MUSICA-PERDIDA-Banda-Titular-AMC-Las-Musas.jpeg
END:VEVENT
BEGIN:VEVENT
DTSTART;TZID=Europe/Madrid:20210703T210000
DTEND;TZID=Europe/Madrid:20210703T210000
DTSTAMP:20260425T174907
CREATED:20210713T090636Z
LAST-MODIFIED:20210713T090636Z
UID:6695-1625346000-1625346000@www.febandasrmurcia.com
SUMMARY:NOCHE DE ZARZUELA - Agrupación Musical Nuestra Señora del Pasico de Torre Pacheco
DESCRIPTION:
URL:https://www.febandasrmurcia.com/eventos/noche-de-zarzuela-agrupacion-musical-nuestra-senora-del-pasico-de-torre-pacheco/
ATTACH;FMTTYPE=image/jpeg:https://www.febandasrmurcia.com/wp-content/uploads/2021/07/NOCHE-DE-ZARZUELA-Agrupacion-Musical-Nuestra-Senora-del-Pasico.jpeg
END:VEVENT
BEGIN:VEVENT
DTSTART;TZID=Europe/Madrid:20210704T200000
DTEND;TZID=Europe/Madrid:20210704T220000
DTSTAMP:20260425T174907
CREATED:20210712T170717Z
LAST-MODIFIED:20210712T170717Z
UID:6629-1625428800-1625436000@www.febandasrmurcia.com
SUMMARY:CONCIERTO DE VERANO - Asociación Amigos de la Música de las Torres de Cotillas
DESCRIPTION:
URL:https://www.febandasrmurcia.com/eventos/concierto-de-verano-asociacion-amigos-de-la-musica-de-las-torres-de-cotillas/
ATTACH;FMTTYPE=image/jpeg:https://www.febandasrmurcia.com/wp-content/uploads/2021/07/WhatsApp-Image-2021-07-12-at-18.56.58.jpeg
END:VEVENT
BEGIN:VEVENT
DTSTART;TZID=Europe/Madrid:20210710T190000
DTEND;TZID=Europe/Madrid:20210710T210000
DTSTAMP:20260425T174907
CREATED:20210713T092832Z
LAST-MODIFIED:20210713T092832Z
UID:6722-1625943600-1625950800@www.febandasrmurcia.com
SUMMARY:CONCIERTO CLAUSURA "I CURSO TUBA Y BOMBARDINO" - Asociación Amigos de la Música de Torre Pacheco
DESCRIPTION:
URL:https://www.febandasrmurcia.com/eventos/concierto-clausura-i-curso-tuba-y-bombardino-asociacion-amigos-de-la-musica-de-torre-pacheco/
ATTACH;FMTTYPE=image/jpeg:https://www.febandasrmurcia.com/wp-content/uploads/2021/07/CONCIERTO-CLAUSURA-I-CURSO-TUBA-Y-BOMBARDINO.jpeg
END:VEVENT
BEGIN:VEVENT
DTSTART;TZID=Europe/Madrid:20210710T200000
DTEND;TZID=Europe/Madrid:20210710T220000
DTSTAMP:20260425T174907
CREATED:20210713T092446Z
LAST-MODIFIED:20210713T092446Z
UID:6718-1625947200-1625954400@www.febandasrmurcia.com
SUMMARY:XX FESTIVAL DE BANDAS "Ciudad de Mula" - Agrupación Musical Muleña
DESCRIPTION:
URL:https://www.febandasrmurcia.com/eventos/xx-festival-de-bandas-ciudad-de-mula-agrupacion-musical-mulena/
ATTACH;FMTTYPE=image/jpeg:https://www.febandasrmurcia.com/wp-content/uploads/2021/07/XX-FESTIVAL-DE-BANDAS-Ciudad-de-Mula.jpeg
END:VEVENT
BEGIN:VEVENT
DTSTART;TZID=Europe/Madrid:20210710T210000
DTEND;TZID=Europe/Madrid:20210710T230000
DTSTAMP:20260425T174907
CREATED:20210713T082449Z
LAST-MODIFIED:20210713T082449Z
UID:6649-1625950800-1625958000@www.febandasrmurcia.com
SUMMARY:CONCIERTO DE VERANO - Banda Villa de Bullas
DESCRIPTION:
URL:https://www.febandasrmurcia.com/eventos/concierto-de-verano-banda-villa-de-bullas/
ATTACH;FMTTYPE=image/jpeg:https://www.febandasrmurcia.com/wp-content/uploads/2021/07/CONCIERTO-DE-VERANO-Banda-Villa-de-Bullas.jpeg
END:VEVENT
BEGIN:VEVENT
DTSTART;TZID=Europe/Madrid:20210715T213000
DTEND;TZID=Europe/Madrid:20210715T233000
DTSTAMP:20260425T174907
CREATED:20210713T085818Z
LAST-MODIFIED:20210713T085818Z
UID:6687-1626384600-1626391800@www.febandasrmurcia.com
SUMMARY:II CONCIERTO DE VERANO - Banda Sinfónica Patronato Musical Aguileño "Francisco Díaz Romero"
DESCRIPTION:
URL:https://www.febandasrmurcia.com/eventos/ii-concierto-de-verano-banda-sinfonica-patronato-musical-aguileno-francisco-diaz-romero/
ATTACH;FMTTYPE=image/jpeg:https://www.febandasrmurcia.com/wp-content/uploads/2021/07/II-CONCIERTO-DE-VERANO-Banda-Sinfonica-Patronato-Musical-Aguileno-Francisco-Diaz-Romero.jpeg
END:VEVENT
BEGIN:VEVENT
DTSTART;TZID=Europe/Madrid:20210716T203000
DTEND;TZID=Europe/Madrid:20210716T223000
DTSTAMP:20260425T174907
CREATED:20210714T085732Z
LAST-MODIFIED:20210714T085732Z
UID:6741-1626467400-1626474600@www.febandasrmurcia.com
SUMMARY:CONCIERTO ASIGNATURA DE BANDA - Asociación de Amigos de la Música de Yecla
DESCRIPTION:
URL:https://www.febandasrmurcia.com/eventos/concierto-asignatura-de-banda-asociacion-de-amigos-de-la-musica-de-yecla/
ATTACH;FMTTYPE=image/jpeg:https://www.febandasrmurcia.com/wp-content/uploads/2021/07/CONCIERTO-ASIGNATURA-DE-BANDA-Asociacion-de-Amigos-de-la-Musica-de-Yecla.jpeg
END:VEVENT
BEGIN:VEVENT
DTSTART;TZID=Europe/Madrid:20210716T210000
DTEND;TZID=Europe/Madrid:20210716T230000
DTSTAMP:20260425T174907
CREATED:20210713T094007Z
LAST-MODIFIED:20210713T094007Z
UID:6732-1626469200-1626476400@www.febandasrmurcia.com
SUMMARY:NOCHE DE ROCK - Agrupación Musical Nuestra Señora del Pasico de Torre Pacheco
DESCRIPTION:
URL:https://www.febandasrmurcia.com/eventos/noche-de-rock-agrupacion-musical-nuestra-senora-del-pasico-de-torre-pacheco/
ATTACH;FMTTYPE=image/jpeg:https://www.febandasrmurcia.com/wp-content/uploads/2021/07/2.jpeg
END:VEVENT
BEGIN:VEVENT
DTSTART;TZID=Europe/Madrid:20210716T223000
DTEND;TZID=Europe/Madrid:20210716T233000
DTSTAMP:20260425T174907
CREATED:20210714T090055Z
LAST-MODIFIED:20210714T090055Z
UID:6746-1626474600-1626478200@www.febandasrmurcia.com
SUMMARY:NOCHES CON ENCANTO - Agrupación Musical La Unión
DESCRIPTION:
URL:https://www.febandasrmurcia.com/eventos/noches-con-encanto-agrupacion-musical-la-union/
ATTACH;FMTTYPE=image/jpeg:https://www.febandasrmurcia.com/wp-content/uploads/2021/07/NOCHES-CON-ENCANTO-Agrupacion-Musical-La-Union.jpeg
END:VEVENT
BEGIN:VEVENT
DTSTART;TZID=Europe/Madrid:20210717T210000
DTEND;TZID=Europe/Madrid:20210717T230000
DTSTAMP:20260425T174907
CREATED:20210712T163219Z
LAST-MODIFIED:20210712T163219Z
UID:6622-1626555600-1626562800@www.febandasrmurcia.com
SUMMARY:XXXII FESTIVAL DE BANDAS "Villa de Calasparra"
DESCRIPTION:
URL:https://www.febandasrmurcia.com/eventos/xxxii-festival-de-bandas-villa-de-calasparra/
ATTACH;FMTTYPE=image/jpeg:https://www.febandasrmurcia.com/wp-content/uploads/2021/07/WhatsApp-Image-2021-07-12-at-18.10.30.jpeg
END:VEVENT
BEGIN:VEVENT
DTSTART;TZID=Europe/Madrid:20210720T220000
DTEND;TZID=Europe/Madrid:20210720T233000
DTSTAMP:20260425T174907
CREATED:20210714T170937Z
LAST-MODIFIED:20210714T170937Z
UID:6751-1626818400-1626823800@www.febandasrmurcia.com
SUMMARY:CONCIERTOS DE VERANO 2021 - Unión Musical de Torre Pacheco
DESCRIPTION:
URL:https://www.febandasrmurcia.com/eventos/conciertos-de-verano-2021-union-musical-de-torre-pacheco/
ATTACH;FMTTYPE=image/jpeg:https://www.febandasrmurcia.com/wp-content/uploads/2021/07/CONCIERTOS-DE-VERANO-2021-Union-Musical-de-Torre-Pacheco.jpeg
END:VEVENT
BEGIN:VEVENT
DTSTART;TZID=Europe/Madrid:20210722T220000
DTEND;TZID=Europe/Madrid:20210722T233000
DTSTAMP:20260425T174907
CREATED:20210714T171141Z
LAST-MODIFIED:20210714T171141Z
UID:6753-1626991200-1626996600@www.febandasrmurcia.com
SUMMARY:CONCIERTOS DE VERANO 2021 - Unión Musical de Torre Pacheco
DESCRIPTION:
URL:https://www.febandasrmurcia.com/eventos/conciertos-de-verano-2021-union-musical-de-torre-pacheco-2/
ATTACH;FMTTYPE=image/jpeg:https://www.febandasrmurcia.com/wp-content/uploads/2021/07/CONCIERTOS-DE-VERANO-2021-Union-Musical-de-Torre-Pacheco.jpeg
END:VEVENT
BEGIN:VEVENT
DTSTART;TZID=Europe/Madrid:20210723T220000
DTEND;TZID=Europe/Madrid:20210723T233000
DTSTAMP:20260425T174907
CREATED:20210713T090224Z
LAST-MODIFIED:20210713T090224Z
UID:6691-1627077600-1627083000@www.febandasrmurcia.com
SUMMARY:III CONCIERTO DE VERANO - Banda Sinfónica Patronato Musical Aguileño "Francisco Díaz Romero"
DESCRIPTION:
URL:https://www.febandasrmurcia.com/eventos/iii-concierto-de-verano-banda-sinfonica-patronato-musical-aguileno-francisco-diaz-romero/
ATTACH;FMTTYPE=image/jpeg:https://www.febandasrmurcia.com/wp-content/uploads/2021/07/III-CONCIERTO-DE-VERANO-Banda-Sinfonica-Patronato-Musical-Aguileno-Francisco-Diaz-Romero.jpeg
END:VEVENT
BEGIN:VEVENT
DTSTART;TZID=Europe/Madrid:20210723T220000
DTEND;TZID=Europe/Madrid:20210723T233000
DTSTAMP:20260425T174907
CREATED:20210720T080053Z
LAST-MODIFIED:20210720T080053Z
UID:6759-1627077600-1627083000@www.febandasrmurcia.com
SUMMARY:CONCIERTO - Banda de la Asociación Amigos de la Música de Lorquí
DESCRIPTION:
URL:https://www.febandasrmurcia.com/eventos/concierto-banda-de-la-asociacion-amigos-de-la-musica-de-lorqui/
ATTACH;FMTTYPE=image/jpeg:https://www.febandasrmurcia.com/wp-content/uploads/2021/07/CONCIERTO-Banda-de-la-Asociacion-Amigos-de-la-Musica-de-Lorqui.jpeg
END:VEVENT
BEGIN:VEVENT
DTSTART;TZID=Europe/Madrid:20210724T220000
DTEND;TZID=Europe/Madrid:20210724T233000
DTSTAMP:20260425T174907
CREATED:20210721T155327Z
LAST-MODIFIED:20210721T155327Z
UID:6769-1627164000-1627169400@www.febandasrmurcia.com
SUMMARY:CONCIERTO DE VERANO - Sociedad Musical de Cehegín
DESCRIPTION:
URL:https://www.febandasrmurcia.com/eventos/concierto-de-verano-sociedad-musical-de-cehegin/
ATTACH;FMTTYPE=image/jpeg:https://www.febandasrmurcia.com/wp-content/uploads/2021/07/CONCIERTO-DE-VERANO-Sociedad-Musical-de-Cehegin.jpeg
END:VEVENT
BEGIN:VEVENT
DTSTART;TZID=Europe/Madrid:20210725T200000
DTEND;TZID=Europe/Madrid:20210725T220000
DTSTAMP:20260425T174907
CREATED:20210721T083453Z
LAST-MODIFIED:20210721T083453Z
UID:6764-1627243200-1627250400@www.febandasrmurcia.com
SUMMARY:CONCIERTO DE PELÍCULA - Banda Sinfónica Asociación de Amigos de la Música de Yecla
DESCRIPTION:
URL:https://www.febandasrmurcia.com/eventos/concierto-de-pelicula-banda-sinfonica-asociacion-de-amigos-de-la-musica-de-yecla/
ATTACH;FMTTYPE=image/jpeg:https://www.febandasrmurcia.com/wp-content/uploads/2021/07/CONCIERTO-DE-PELICULA-Banda-Sinfonica-Asociacion-de-Amigos-de-la-Musica-de-Yecla.jpg
END:VEVENT
BEGIN:VEVENT
DTSTART;TZID=Europe/Madrid:20210725T210000
DTEND;TZID=Europe/Madrid:20210725T230000
DTSTAMP:20260425T174907
CREATED:20210721T155653Z
LAST-MODIFIED:20210721T155653Z
UID:6775-1627246800-1627254000@www.febandasrmurcia.com
SUMMARY:OBERTURA A UNA NUEVA ERA - Agrupación Musical de Totana
DESCRIPTION:
URL:https://www.febandasrmurcia.com/eventos/obertura-a-una-nueva-era-agrupacion-musical-de-totana/
ATTACH;FMTTYPE=image/jpeg:https://www.febandasrmurcia.com/wp-content/uploads/2021/07/OBERTURA-A-UNA-NUEVA-ERA-Agrupacion-Musical-de-Totana.jpeg
END:VEVENT
BEGIN:VEVENT
DTSTART;TZID=Europe/Madrid:20210725T210000
DTEND;TZID=Europe/Madrid:20210725T230000
DTSTAMP:20260425T174907
CREATED:20210722T161656Z
LAST-MODIFIED:20210722T161656Z
UID:6780-1627246800-1627254000@www.febandasrmurcia.com
SUMMARY:CONCIERTO VIVA EL PASODOBLE Homenaje a nuestros mayores - Agrupación Musical Ntra. Sra. de los Remedios (Pliego)
DESCRIPTION:
URL:https://www.febandasrmurcia.com/eventos/concierto-viva-el-pasodoble-homenaje-a-nuestros-mayores-agrupacion-musical-ntra-sra-de-los-remedios-pliego/
ATTACH;FMTTYPE=image/jpeg:https://www.febandasrmurcia.com/wp-content/uploads/2021/07/CONCIERTO-VIVA-EL-PASODOBLE-Homenaje-a-nuestros-mayores-Agrupacion-Musical-Ntra.-Sra.-de-los-Remedios-Pliego.jpeg
END:VEVENT
BEGIN:VEVENT
DTSTART;VALUE=DATE:20210726
DTEND;VALUE=DATE:20210727
DTSTAMP:20260425T174907
CREATED:20210713T083443Z
LAST-MODIFIED:20210713T083443Z
UID:6661-1627257600-1627343999@www.febandasrmurcia.com
SUMMARY:CURSO DE SAXOFÓN - Sociedad Artístico Musical Santa Cecilia de Pozo Estrecho
DESCRIPTION:
URL:https://www.febandasrmurcia.com/eventos/curso-de-saxofon-sociedad-artistico-musical-santa-cecilia-de-pozo-estrecho/
ATTACH;FMTTYPE=image/jpeg:https://www.febandasrmurcia.com/wp-content/uploads/2021/07/CURSO-DE-SAXOFON-Sociedad-Artistico-Musical-Santa-Cecilia.jpeg
END:VEVENT
BEGIN:VEVENT
DTSTART;VALUE=DATE:20210727
DTEND;VALUE=DATE:20210728
DTSTAMP:20260425T174907
CREATED:20210713T083814Z
LAST-MODIFIED:20210713T083814Z
UID:6667-1627344000-1627430399@www.febandasrmurcia.com
SUMMARY:CURSO DE SAXOFÓN - Sociedad Artístico Musical Santa Cecilia de Pozo Estrecho
DESCRIPTION:
URL:https://www.febandasrmurcia.com/eventos/curso-de-saxofon-sociedad-artistico-musical-santa-cecilia-de-pozo-estrecho-2/
ATTACH;FMTTYPE=image/jpeg:https://www.febandasrmurcia.com/wp-content/uploads/2021/07/CURSO-DE-SAXOFON-Sociedad-Artistico-Musical-Santa-Cecilia.jpeg
END:VEVENT
BEGIN:VEVENT
DTSTART;VALUE=DATE:20210728
DTEND;VALUE=DATE:20210729
DTSTAMP:20260425T174907
CREATED:20210713T084039Z
LAST-MODIFIED:20210713T084039Z
UID:6669-1627430400-1627516799@www.febandasrmurcia.com
SUMMARY:CURSO DE SAXOFÓN - Sociedad Artístico Musical Santa Cecilia de Pozo Estrecho
DESCRIPTION:
URL:https://www.febandasrmurcia.com/eventos/curso-de-saxofon-sociedad-artistico-musical-santa-cecilia-de-pozo-estrecho-3/
ATTACH;FMTTYPE=image/jpeg:https://www.febandasrmurcia.com/wp-content/uploads/2021/07/CURSO-DE-SAXOFON-Sociedad-Artistico-Musical-Santa-Cecilia.jpeg
END:VEVENT
BEGIN:VEVENT
DTSTART;VALUE=DATE:20210729
DTEND;VALUE=DATE:20210730
DTSTAMP:20260425T174907
CREATED:20210713T084212Z
LAST-MODIFIED:20210713T084212Z
UID:6671-1627516800-1627603199@www.febandasrmurcia.com
SUMMARY:CURSO DE SAXOFÓN - Sociedad Artístico Musical Santa Cecilia de Pozo Estrecho
DESCRIPTION:
URL:https://www.febandasrmurcia.com/eventos/curso-de-saxofon-sociedad-artistico-musical-santa-cecilia-de-pozo-estrecho-4/
ATTACH;FMTTYPE=image/jpeg:https://www.febandasrmurcia.com/wp-content/uploads/2021/07/CURSO-DE-SAXOFON-Sociedad-Artistico-Musical-Santa-Cecilia.jpeg
END:VEVENT
BEGIN:VEVENT
DTSTART;VALUE=DATE:20210730
DTEND;VALUE=DATE:20210731
DTSTAMP:20260425T174907
CREATED:20210713T084637Z
LAST-MODIFIED:20210713T084637Z
UID:6673-1627603200-1627689599@www.febandasrmurcia.com
SUMMARY:CURSO DE SAXOFÓN - Sociedad Artístico Musical Santa Cecilia de Pozo Estrecho
DESCRIPTION:
URL:https://www.febandasrmurcia.com/eventos/curso-de-saxofon-sociedad-artistico-musical-santa-cecilia-de-pozo-estrecho-5/
ATTACH;FMTTYPE=image/jpeg:https://www.febandasrmurcia.com/wp-content/uploads/2021/07/CURSO-DE-SAXOFON-Sociedad-Artistico-Musical-Santa-Cecilia.jpeg
END:VEVENT
BEGIN:VEVENT
DTSTART;TZID=Europe/Madrid:20210730T213000
DTEND;TZID=Europe/Madrid:20210730T233000
DTSTAMP:20260425T174907
CREATED:20210729T144759Z
LAST-MODIFIED:20210729T144759Z
UID:6792-1627680600-1627687800@www.febandasrmurcia.com
SUMMARY:CONCIERTO DE PELICULA II - Asociación de Amigos de la Música de Yecla
DESCRIPTION:
URL:https://www.febandasrmurcia.com/eventos/concierto-de-pelicula-ii-asociacion-de-amigos-de-la-musica-de-yecla/
ATTACH;FMTTYPE=image/jpeg:https://www.febandasrmurcia.com/wp-content/uploads/2021/07/CONCIERTO-DE-PELICULA-II-Asociacion-de-Amigos-de-la-Musica-de-Yecla.jpg
END:VEVENT
BEGIN:VEVENT
DTSTART;TZID=Europe/Madrid:20210730T220000
DTEND;TZID=Europe/Madrid:20210730T233000
DTSTAMP:20260425T174907
CREATED:20210723T160955Z
LAST-MODIFIED:20210723T160955Z
UID:6786-1627682400-1627687800@www.febandasrmurcia.com
SUMMARY:CONCIERTO DE PASODOBLES - Asociación Banda de Música de Calasparra
DESCRIPTION:
URL:https://www.febandasrmurcia.com/eventos/concierto-de-pasodobles-asociacion-banda-de-musica-de-calasparra/
ATTACH;FMTTYPE=image/jpeg:https://www.febandasrmurcia.com/wp-content/uploads/2021/07/IMG-20210723-WA0006.jpg
END:VEVENT
BEGIN:VEVENT
DTSTART;VALUE=DATE:20210731
DTEND;VALUE=DATE:20210801
DTSTAMP:20260425T174907
CREATED:20210713T084755Z
LAST-MODIFIED:20210713T084755Z
UID:6675-1627689600-1627775999@www.febandasrmurcia.com
SUMMARY:CURSO DE SAXOFÓN - Sociedad Artístico Musical Santa Cecilia de Pozo Estrecho
DESCRIPTION:
URL:https://www.febandasrmurcia.com/eventos/curso-de-saxofon-sociedad-artistico-musical-santa-cecilia-de-pozo-estrecho-6/
ATTACH;FMTTYPE=image/jpeg:https://www.febandasrmurcia.com/wp-content/uploads/2021/07/CURSO-DE-SAXOFON-Sociedad-Artistico-Musical-Santa-Cecilia.jpeg
END:VEVENT
END:VCALENDAR