BEGIN:VCALENDAR
VERSION:2.0
PRODID:-//Federación de Bandas de Música de la Región de Murcia - ECPv5.5.0.1//NONSGML v1.0//EN
CALSCALE:GREGORIAN
METHOD:PUBLISH
X-WR-CALNAME:Federación de Bandas de Música de la Región de Murcia
X-ORIGINAL-URL:https://www.febandasrmurcia.com
X-WR-CALDESC:Eventos para Federación de Bandas de Música de la Región de Murcia
BEGIN:VTIMEZONE
TZID:Europe/Madrid
BEGIN:DAYLIGHT
TZOFFSETFROM:+0100
TZOFFSETTO:+0200
TZNAME:CEST
DTSTART:20210328T010000
END:DAYLIGHT
BEGIN:STANDARD
TZOFFSETFROM:+0200
TZOFFSETTO:+0100
TZNAME:CET
DTSTART:20211031T010000
END:STANDARD
END:VTIMEZONE
BEGIN:VEVENT
DTSTART;VALUE=DATE:20210726
DTEND;VALUE=DATE:20210727
DTSTAMP:20260425T154516
CREATED:20210713T083443Z
LAST-MODIFIED:20210713T083443Z
UID:6661-1627257600-1627343999@www.febandasrmurcia.com
SUMMARY:CURSO DE SAXOFÓN - Sociedad Artístico Musical Santa Cecilia de Pozo Estrecho
DESCRIPTION:
URL:https://www.febandasrmurcia.com/eventos/curso-de-saxofon-sociedad-artistico-musical-santa-cecilia-de-pozo-estrecho/
ATTACH;FMTTYPE=image/jpeg:https://www.febandasrmurcia.com/wp-content/uploads/2021/07/CURSO-DE-SAXOFON-Sociedad-Artistico-Musical-Santa-Cecilia.jpeg
END:VEVENT
BEGIN:VEVENT
DTSTART;VALUE=DATE:20210727
DTEND;VALUE=DATE:20210728
DTSTAMP:20260425T154516
CREATED:20210713T083814Z
LAST-MODIFIED:20210713T083814Z
UID:6667-1627344000-1627430399@www.febandasrmurcia.com
SUMMARY:CURSO DE SAXOFÓN - Sociedad Artístico Musical Santa Cecilia de Pozo Estrecho
DESCRIPTION:
URL:https://www.febandasrmurcia.com/eventos/curso-de-saxofon-sociedad-artistico-musical-santa-cecilia-de-pozo-estrecho-2/
ATTACH;FMTTYPE=image/jpeg:https://www.febandasrmurcia.com/wp-content/uploads/2021/07/CURSO-DE-SAXOFON-Sociedad-Artistico-Musical-Santa-Cecilia.jpeg
END:VEVENT
BEGIN:VEVENT
DTSTART;VALUE=DATE:20210728
DTEND;VALUE=DATE:20210729
DTSTAMP:20260425T154516
CREATED:20210713T084039Z
LAST-MODIFIED:20210713T084039Z
UID:6669-1627430400-1627516799@www.febandasrmurcia.com
SUMMARY:CURSO DE SAXOFÓN - Sociedad Artístico Musical Santa Cecilia de Pozo Estrecho
DESCRIPTION:
URL:https://www.febandasrmurcia.com/eventos/curso-de-saxofon-sociedad-artistico-musical-santa-cecilia-de-pozo-estrecho-3/
ATTACH;FMTTYPE=image/jpeg:https://www.febandasrmurcia.com/wp-content/uploads/2021/07/CURSO-DE-SAXOFON-Sociedad-Artistico-Musical-Santa-Cecilia.jpeg
END:VEVENT
BEGIN:VEVENT
DTSTART;VALUE=DATE:20210729
DTEND;VALUE=DATE:20210730
DTSTAMP:20260425T154516
CREATED:20210713T084212Z
LAST-MODIFIED:20210713T084212Z
UID:6671-1627516800-1627603199@www.febandasrmurcia.com
SUMMARY:CURSO DE SAXOFÓN - Sociedad Artístico Musical Santa Cecilia de Pozo Estrecho
DESCRIPTION:
URL:https://www.febandasrmurcia.com/eventos/curso-de-saxofon-sociedad-artistico-musical-santa-cecilia-de-pozo-estrecho-4/
ATTACH;FMTTYPE=image/jpeg:https://www.febandasrmurcia.com/wp-content/uploads/2021/07/CURSO-DE-SAXOFON-Sociedad-Artistico-Musical-Santa-Cecilia.jpeg
END:VEVENT
BEGIN:VEVENT
DTSTART;VALUE=DATE:20210730
DTEND;VALUE=DATE:20210731
DTSTAMP:20260425T154516
CREATED:20210713T084637Z
LAST-MODIFIED:20210713T084637Z
UID:6673-1627603200-1627689599@www.febandasrmurcia.com
SUMMARY:CURSO DE SAXOFÓN - Sociedad Artístico Musical Santa Cecilia de Pozo Estrecho
DESCRIPTION:
URL:https://www.febandasrmurcia.com/eventos/curso-de-saxofon-sociedad-artistico-musical-santa-cecilia-de-pozo-estrecho-5/
ATTACH;FMTTYPE=image/jpeg:https://www.febandasrmurcia.com/wp-content/uploads/2021/07/CURSO-DE-SAXOFON-Sociedad-Artistico-Musical-Santa-Cecilia.jpeg
END:VEVENT
BEGIN:VEVENT
DTSTART;TZID=Europe/Madrid:20210730T213000
DTEND;TZID=Europe/Madrid:20210730T233000
DTSTAMP:20260425T154516
CREATED:20210729T144759Z
LAST-MODIFIED:20210729T144759Z
UID:6792-1627680600-1627687800@www.febandasrmurcia.com
SUMMARY:CONCIERTO DE PELICULA II - Asociación de Amigos de la Música de Yecla
DESCRIPTION:
URL:https://www.febandasrmurcia.com/eventos/concierto-de-pelicula-ii-asociacion-de-amigos-de-la-musica-de-yecla/
ATTACH;FMTTYPE=image/jpeg:https://www.febandasrmurcia.com/wp-content/uploads/2021/07/CONCIERTO-DE-PELICULA-II-Asociacion-de-Amigos-de-la-Musica-de-Yecla.jpg
END:VEVENT
BEGIN:VEVENT
DTSTART;TZID=Europe/Madrid:20210730T220000
DTEND;TZID=Europe/Madrid:20210730T233000
DTSTAMP:20260425T154516
CREATED:20210723T160955Z
LAST-MODIFIED:20210723T160955Z
UID:6786-1627682400-1627687800@www.febandasrmurcia.com
SUMMARY:CONCIERTO DE PASODOBLES - Asociación Banda de Música de Calasparra
DESCRIPTION:
URL:https://www.febandasrmurcia.com/eventos/concierto-de-pasodobles-asociacion-banda-de-musica-de-calasparra/
ATTACH;FMTTYPE=image/jpeg:https://www.febandasrmurcia.com/wp-content/uploads/2021/07/IMG-20210723-WA0006.jpg
END:VEVENT
BEGIN:VEVENT
DTSTART;VALUE=DATE:20210731
DTEND;VALUE=DATE:20210801
DTSTAMP:20260425T154516
CREATED:20210713T084755Z
LAST-MODIFIED:20210713T084755Z
UID:6675-1627689600-1627775999@www.febandasrmurcia.com
SUMMARY:CURSO DE SAXOFÓN - Sociedad Artístico Musical Santa Cecilia de Pozo Estrecho
DESCRIPTION:
URL:https://www.febandasrmurcia.com/eventos/curso-de-saxofon-sociedad-artistico-musical-santa-cecilia-de-pozo-estrecho-6/
ATTACH;FMTTYPE=image/jpeg:https://www.febandasrmurcia.com/wp-content/uploads/2021/07/CURSO-DE-SAXOFON-Sociedad-Artistico-Musical-Santa-Cecilia.jpeg
END:VEVENT
BEGIN:VEVENT
DTSTART;TZID=Europe/Madrid:20210804T220000
DTEND;TZID=Europe/Madrid:20210804T233000
DTSTAMP:20260425T154516
CREATED:20210806T074506Z
LAST-MODIFIED:20210806T074506Z
UID:6816-1628114400-1628119800@www.febandasrmurcia.com
SUMMARY:CONCIERTOS DE VERANO - Agrupación Musical de Caravaca
DESCRIPTION:
URL:https://www.febandasrmurcia.com/eventos/conciertos-de-verano-agrupacion-musical-de-caravaca/
ATTACH;FMTTYPE=image/jpeg:https://www.febandasrmurcia.com/wp-content/uploads/2021/08/CONCIERTOS-DE-VERANO-Agrupacion-Musical-de-Caravaca.jpg
END:VEVENT
BEGIN:VEVENT
DTSTART;TZID=Europe/Madrid:20210805T210000
DTEND;TZID=Europe/Madrid:20210805T230000
DTSTAMP:20260425T154516
CREATED:20210831T082011Z
LAST-MODIFIED:20210831T082011Z
UID:6887-1628197200-1628204400@www.febandasrmurcia.com
SUMMARY:CONCIERTO FESTIVIDAD NTRA. SEÑORA DE LAS NIEVES - Agrupación Musical Ntra. Sra. de la Soledad (Molinos Marfagones)
DESCRIPTION:
URL:https://www.febandasrmurcia.com/eventos/concierto-festividad-ntra-senora-de-las-nieves-agrupacion-musical-ntra-sra-de-la-soledad-molinos-marfagones/
ATTACH;FMTTYPE=image/jpeg:https://www.febandasrmurcia.com/wp-content/uploads/2021/08/CONCIERTO-FESTIVIDAD-NTRA.-SENORA-DE-LAS-NIEVES-Agrupacion-Musical-Ntra.-Sra.-de-la-Soledad-Molinos-Marfagones.jpg
END:VEVENT
BEGIN:VEVENT
DTSTART;TZID=Europe/Madrid:20210809T230000
DTEND;TZID=Europe/Madrid:20210809T233000
DTSTAMP:20260425T154516
CREATED:20210805T141302Z
LAST-MODIFIED:20210805T141416Z
UID:6805-1628550000-1628551800@www.febandasrmurcia.com
SUMMARY:ROCK MUSIC CONCERT - Agrupación Musical de Blanca
DESCRIPTION:
URL:https://www.febandasrmurcia.com/eventos/rock-music-concert-agrupacion-musical-de-blanca/
ATTACH;FMTTYPE=image/jpeg:https://www.febandasrmurcia.com/wp-content/uploads/2021/08/ROCK-MUSIC-CONCERT-Agrupacion-Musical-de-Blanca.jpeg
END:VEVENT
BEGIN:VEVENT
DTSTART;TZID=Europe/Madrid:20210811T220000
DTEND;TZID=Europe/Madrid:20210811T233000
DTSTAMP:20260425T154516
CREATED:20210806T074605Z
LAST-MODIFIED:20210806T074605Z
UID:6818-1628719200-1628724600@www.febandasrmurcia.com
SUMMARY:CONCIERTOS DE VERANO - Agrupación Musical de Caravaca
DESCRIPTION:
URL:https://www.febandasrmurcia.com/eventos/conciertos-de-verano-agrupacion-musical-de-caravaca-2/
ATTACH;FMTTYPE=image/jpeg:https://www.febandasrmurcia.com/wp-content/uploads/2021/08/CONCIERTOS-DE-VERANO-Agrupacion-Musical-de-Caravaca.jpg
END:VEVENT
BEGIN:VEVENT
DTSTART;TZID=Europe/Madrid:20210813T220000
DTEND;TZID=Europe/Madrid:20210813T233000
DTSTAMP:20260425T154516
CREATED:20210810T175238Z
LAST-MODIFIED:20210810T175238Z
UID:6834-1628892000-1628897400@www.febandasrmurcia.com
SUMMARY:XI FESTIVAL DE BANDAS JUVENILES - Asociación Musical "Julián Santos" y Asociación Jumillana Amigos de la Música (AJAM)
DESCRIPTION:
URL:https://www.febandasrmurcia.com/eventos/xi-festival-de-bandas-juveniles-asociacion-musical-julian-santos-y-asociacion-jumillana-amigos-de-la-musica-ajam/
ATTACH;FMTTYPE=image/jpeg:https://www.febandasrmurcia.com/wp-content/uploads/2021/08/XI-FESTIVAL-DE-BANDAS-JUVENILES-Asociacion-Musical-Julian-Santos-y-Asociacion-Jumillana-Amigos-de-la-Musica-AJAM.jpg
END:VEVENT
BEGIN:VEVENT
DTSTART;TZID=Europe/Madrid:20210814T223000
DTEND;TZID=Europe/Madrid:20210814T233000
DTSTAMP:20260425T154516
CREATED:20210805T173536Z
LAST-MODIFIED:20210805T173536Z
UID:6810-1628980200-1628983800@www.febandasrmurcia.com
SUMMARY:GRAN CONCIERTO LÍRICO - Agrupación Musical de Blanca
DESCRIPTION:
URL:https://www.febandasrmurcia.com/eventos/gran-concierto-lirico-agrupacion-musical-de-blanca/
ATTACH;FMTTYPE=image/jpeg:https://www.febandasrmurcia.com/wp-content/uploads/2021/08/GRAN-CONCIERTO-LIRICO-Agrupacion-Musical-de-Blanca.jpeg
END:VEVENT
BEGIN:VEVENT
DTSTART;TZID=Europe/Madrid:20210815T213000
DTEND;TZID=Europe/Madrid:20210815T233000
DTSTAMP:20260425T154516
CREATED:20210810T175439Z
LAST-MODIFIED:20210810T175439Z
UID:6838-1629063000-1629070200@www.febandasrmurcia.com
SUMMARY:LAS NOCHES DEL MUSEO - Sociedad Musical de Cehegín
DESCRIPTION:
URL:https://www.febandasrmurcia.com/eventos/las-noches-del-museo-sociedad-musical-de-cehegin/
ATTACH;FMTTYPE=image/jpeg:https://www.febandasrmurcia.com/wp-content/uploads/2021/08/LAS-NOCHES-DEL-MUSEO-Sociedad-Musical-de-Cehegin.jpeg
END:VEVENT
BEGIN:VEVENT
DTSTART;TZID=Europe/Madrid:20210818T220000
DTEND;TZID=Europe/Madrid:20210818T233000
DTSTAMP:20260425T154516
CREATED:20210806T074700Z
LAST-MODIFIED:20210806T074700Z
UID:6820-1629324000-1629329400@www.febandasrmurcia.com
SUMMARY:CONCIERTOS DE VERANO - Agrupación Musical de Caravaca
DESCRIPTION:
URL:https://www.febandasrmurcia.com/eventos/conciertos-de-verano-agrupacion-musical-de-caravaca-3/
ATTACH;FMTTYPE=image/jpeg:https://www.febandasrmurcia.com/wp-content/uploads/2021/08/CONCIERTOS-DE-VERANO-Agrupacion-Musical-de-Caravaca.jpg
END:VEVENT
BEGIN:VEVENT
DTSTART;TZID=Europe/Madrid:20210818T220000
DTEND;TZID=Europe/Madrid:20210818T233000
DTSTAMP:20260425T154516
CREATED:20210806T074949Z
LAST-MODIFIED:20210806T074949Z
UID:6826-1629324000-1629329400@www.febandasrmurcia.com
SUMMARY:NOCHES DE FERIA\, JUMILLA 2021 - Asociación Musical "Julián Santos"
DESCRIPTION:
URL:https://www.febandasrmurcia.com/eventos/noches-de-feria-jumilla-2021-asociacion-musical-julian-santos/
ATTACH;FMTTYPE=image/jpeg:https://www.febandasrmurcia.com/wp-content/uploads/2021/08/NOCHES-DE-FERIA-JUMILLA-2021-Asociacion-Musical-Julian-Santos.jpg
END:VEVENT
BEGIN:VEVENT
DTSTART;TZID=Europe/Madrid:20210818T220000
DTEND;TZID=Europe/Madrid:20210818T233000
DTSTAMP:20260425T154516
CREATED:20210816T162208Z
LAST-MODIFIED:20210816T162208Z
UID:6857-1629324000-1629329400@www.febandasrmurcia.com
SUMMARY:CONCIERTO - Asociación Músico Cultural de Beniel
DESCRIPTION:
URL:https://www.febandasrmurcia.com/eventos/concierto-asociacion-musico-cultural-de-beniel/
ATTACH;FMTTYPE=image/jpeg:https://www.febandasrmurcia.com/wp-content/uploads/2021/08/CONCIERTO-Asociacion-Musico-Cultural-de-Beniel.jpeg
END:VEVENT
BEGIN:VEVENT
DTSTART;VALUE=DATE:20210820
DTEND;VALUE=DATE:20210821
DTSTAMP:20260425T154516
CREATED:20210713T091821Z
LAST-MODIFIED:20210713T091821Z
UID:6709-1629417600-1629503999@www.febandasrmurcia.com
SUMMARY:V CONCURSO NACIONAL DE DIRECCIÓN "Maestro Galindo" de Calasparra
DESCRIPTION:
URL:https://www.febandasrmurcia.com/eventos/v-concurso-nacional-de-direccion-maestro-galindo-de-calasparra/
ATTACH;FMTTYPE=image/jpeg:https://www.febandasrmurcia.com/wp-content/uploads/2021/07/V-CONCURSO-NACIONAL-DE-DIRECCION-Maestro-Galindo.jpeg
END:VEVENT
BEGIN:VEVENT
DTSTART;TZID=Europe/Madrid:20210820T220000
DTEND;TZID=Europe/Madrid:20210820T233000
DTSTAMP:20260425T154516
CREATED:20210729T145021Z
LAST-MODIFIED:20210729T145021Z
UID:6796-1629496800-1629502200@www.febandasrmurcia.com
SUMMARY:NOCHES CON ENCANTO - Agrupación Musical La Unión
DESCRIPTION:
URL:https://www.febandasrmurcia.com/eventos/noches-con-encanto-agrupacion-musical-la-union-2/
ATTACH;FMTTYPE=image/jpeg:https://www.febandasrmurcia.com/wp-content/uploads/2021/07/NOCHES-CON-ENCANTO-Agrupacion-Musical-La-Union-1.jpeg
END:VEVENT
BEGIN:VEVENT
DTSTART;VALUE=DATE:20210821
DTEND;VALUE=DATE:20210822
DTSTAMP:20260425T154516
CREATED:20210713T092001Z
LAST-MODIFIED:20210713T092001Z
UID:6712-1629504000-1629590399@www.febandasrmurcia.com
SUMMARY:V CONCURSO NACIONAL DE DIRECCIÓN "Maestro Galindo" de Calasparra
DESCRIPTION:
URL:https://www.febandasrmurcia.com/eventos/v-concurso-nacional-de-direccion-maestro-galindo-de-calasparra-2/
ATTACH;FMTTYPE=image/jpeg:https://www.febandasrmurcia.com/wp-content/uploads/2021/07/V-CONCURSO-NACIONAL-DE-DIRECCION-Maestro-Galindo.jpeg
END:VEVENT
BEGIN:VEVENT
DTSTART;VALUE=DATE:20210822
DTEND;VALUE=DATE:20210823
DTSTAMP:20260425T154516
CREATED:20210713T092128Z
LAST-MODIFIED:20210713T092128Z
UID:6714-1629590400-1629676799@www.febandasrmurcia.com
SUMMARY:V CONCURSO NACIONAL DE DIRECCIÓN "Maestro Galindo" de Calasparra
DESCRIPTION:
URL:https://www.febandasrmurcia.com/eventos/v-concurso-nacional-de-direccion-maestro-galindo-de-calasparra-3/
ATTACH;FMTTYPE=image/jpeg:https://www.febandasrmurcia.com/wp-content/uploads/2021/07/V-CONCURSO-NACIONAL-DE-DIRECCION-Maestro-Galindo.jpeg
END:VEVENT
BEGIN:VEVENT
DTSTART;TZID=Europe/Madrid:20210822T220000
DTEND;TZID=Europe/Madrid:20210822T233000
DTSTAMP:20260425T154516
CREATED:20210820T092126Z
LAST-MODIFIED:20210820T092126Z
UID:6863-1629669600-1629675000@www.febandasrmurcia.com
SUMMARY:V CONCURSO NACIONAL DE DIRECCIÓN MAESTRO GALINDO - Asociación Banda de Música de Calasparra
DESCRIPTION:
URL:https://www.febandasrmurcia.com/eventos/v-concurso-nacional-de-direccion-maestro-galindo-asociacion-banda-de-musica-de-calasparra/
ATTACH;FMTTYPE=image/jpeg:https://www.febandasrmurcia.com/wp-content/uploads/2021/08/V-CONCURSO-NACIONAL-DE-DIRECCION-MAESTRO-GALINDO-Asociacion-Banda-de-Musica-de-Calasparra.jpeg
END:VEVENT
BEGIN:VEVENT
DTSTART;TZID=Europe/Madrid:20210825T220000
DTEND;TZID=Europe/Madrid:20210825T233000
DTSTAMP:20260425T154516
CREATED:20210806T074751Z
LAST-MODIFIED:20210806T074751Z
UID:6822-1629928800-1629934200@www.febandasrmurcia.com
SUMMARY:CONCIERTOS DE VERANO - Agrupación Musical de Caravaca
DESCRIPTION:
URL:https://www.febandasrmurcia.com/eventos/conciertos-de-verano-agrupacion-musical-de-caravaca-4/
ATTACH;FMTTYPE=image/jpeg:https://www.febandasrmurcia.com/wp-content/uploads/2021/08/CONCIERTOS-DE-VERANO-Agrupacion-Musical-de-Caravaca.jpg
END:VEVENT
BEGIN:VEVENT
DTSTART;TZID=Europe/Madrid:20210825T223000
DTEND;TZID=Europe/Madrid:20210825T233000
DTSTAMP:20260425T154516
CREATED:20210831T082221Z
LAST-MODIFIED:20210831T082221Z
UID:6891-1629930600-1629934200@www.febandasrmurcia.com
SUMMARY:CONCIERTO DE FERIA - Banda Municipal de Música de Cieza
DESCRIPTION:
URL:https://www.febandasrmurcia.com/eventos/concierto-de-feria-banda-municipal-de-musica-de-cieza/
ATTACH;FMTTYPE=image/jpeg:https://www.febandasrmurcia.com/wp-content/uploads/2021/08/CONCIERTO-DE-FERIA-Banda-Municipal-de-Musica-de-Cieza.jpg
END:VEVENT
BEGIN:VEVENT
DTSTART;TZID=Europe/Madrid:20210827T210000
DTEND;TZID=Europe/Madrid:20210827T230000
DTSTAMP:20260425T154516
CREATED:20210831T082422Z
LAST-MODIFIED:20210831T082422Z
UID:6895-1630098000-1630105200@www.febandasrmurcia.com
SUMMARY:CONCIERTO DE PASODOBLES - Agrupación Musical Muleña
DESCRIPTION:
URL:https://www.febandasrmurcia.com/eventos/concierto-de-pasodobles-agrupacion-musical-mulena/
ATTACH;FMTTYPE=image/jpeg:https://www.febandasrmurcia.com/wp-content/uploads/2021/08/CONCIERTO-DE-PASODOBLES-Agrupacion-Musical-Mulena.jpg
END:VEVENT
BEGIN:VEVENT
DTSTART;TZID=Europe/Madrid:20210827T220000
DTEND;TZID=Europe/Madrid:20210827T233000
DTSTAMP:20260425T154516
CREATED:20210820T092354Z
LAST-MODIFIED:20210820T092354Z
UID:6867-1630101600-1630107000@www.febandasrmurcia.com
SUMMARY:GRAN CONCIERTO LÍRICO - Agrupación Musical de Blanca
DESCRIPTION:
URL:https://www.febandasrmurcia.com/eventos/gran-concierto-lirico-agrupacion-musical-de-blanca-2/
ATTACH;FMTTYPE=image/jpeg:https://www.febandasrmurcia.com/wp-content/uploads/2021/08/GRAN-CONCIERTO-LIRICO-Agrupacion-Musical-de-Blanca-1.jpeg
END:VEVENT
BEGIN:VEVENT
DTSTART;TZID=Europe/Madrid:20210828T210000
DTEND;TZID=Europe/Madrid:20210828T230000
DTSTAMP:20260425T154516
CREATED:20210829T100520Z
LAST-MODIFIED:20210829T100520Z
UID:6873-1630184400-1630191600@www.febandasrmurcia.com
SUMMARY:CONCIERTO "VIAJANDO" - Asociación Jumillana de Amigos de la Música (AJAM)
DESCRIPTION:
URL:https://www.febandasrmurcia.com/eventos/concierto-viajando-asociacion-jumillana-de-amigos-de-la-musica-ajam/
ATTACH;FMTTYPE=image/jpeg:https://www.febandasrmurcia.com/wp-content/uploads/2021/08/CONCIERTO-VIAJANDO-Asociacion-Jumillana-de-Amigos-de-la-Musica-AJAM.jpg
END:VEVENT
BEGIN:VEVENT
DTSTART;TZID=Europe/Madrid:20210828T213000
DTEND;TZID=Europe/Madrid:20210828T233000
DTSTAMP:20260425T154516
CREATED:20210831T082637Z
LAST-MODIFIED:20210831T082637Z
UID:6900-1630186200-1630193400@www.febandasrmurcia.com
SUMMARY:GRAN CONCIERTO PREGÓN DE LAS FIESTAS - Asociación Banda de Música de Calasparra
DESCRIPTION:
URL:https://www.febandasrmurcia.com/eventos/gran-concierto-pregon-de-las-fiestas-asociacion-banda-de-musica-de-calasparra/
ATTACH;FMTTYPE=image/jpeg:https://www.febandasrmurcia.com/wp-content/uploads/2021/08/GRAN-CONCIERTO-PREGON-DE-LAS-FIESTAS-Asociacion-Banda-de-Musica-de-Calasparra.jpg
END:VEVENT
BEGIN:VEVENT
DTSTART;TZID=Europe/Madrid:20210903T220000
DTEND;TZID=Europe/Madrid:20210903T233000
DTSTAMP:20260425T154516
CREATED:20210806T074839Z
LAST-MODIFIED:20210806T074839Z
UID:6824-1630706400-1630711800@www.febandasrmurcia.com
SUMMARY:CONCIERTOS DE VERANO - Agrupación Musical de Caravaca
DESCRIPTION:
URL:https://www.febandasrmurcia.com/eventos/conciertos-de-verano-agrupacion-musical-de-caravaca-5/
ATTACH;FMTTYPE=image/jpeg:https://www.febandasrmurcia.com/wp-content/uploads/2021/08/CONCIERTOS-DE-VERANO-Agrupacion-Musical-de-Caravaca.jpg
END:VEVENT
END:VCALENDAR