BEGIN:VCALENDAR
VERSION:2.0
PRODID:-//Federación de Bandas de Música de la Región de Murcia - ECPv5.5.0.1//NONSGML v1.0//EN
CALSCALE:GREGORIAN
METHOD:PUBLISH
X-WR-CALNAME:Federación de Bandas de Música de la Región de Murcia
X-ORIGINAL-URL:https://www.febandasrmurcia.com
X-WR-CALDESC:Eventos para Federación de Bandas de Música de la Región de Murcia
BEGIN:VTIMEZONE
TZID:Europe/Madrid
BEGIN:DAYLIGHT
TZOFFSETFROM:+0100
TZOFFSETTO:+0200
TZNAME:CEST
DTSTART:20210328T010000
END:DAYLIGHT
BEGIN:STANDARD
TZOFFSETFROM:+0200
TZOFFSETTO:+0100
TZNAME:CET
DTSTART:20211031T010000
END:STANDARD
END:VTIMEZONE
BEGIN:VEVENT
DTSTART;TZID=Europe/Madrid:20210903T220000
DTEND;TZID=Europe/Madrid:20210903T233000
DTSTAMP:20260425T140339
CREATED:20210806T074839Z
LAST-MODIFIED:20210806T074839Z
UID:6824-1630706400-1630711800@www.febandasrmurcia.com
SUMMARY:CONCIERTOS DE VERANO - Agrupación Musical de Caravaca
DESCRIPTION:
URL:https://www.febandasrmurcia.com/eventos/conciertos-de-verano-agrupacion-musical-de-caravaca-5/
ATTACH;FMTTYPE=image/jpeg:https://www.febandasrmurcia.com/wp-content/uploads/2021/08/CONCIERTOS-DE-VERANO-Agrupacion-Musical-de-Caravaca.jpg
END:VEVENT
BEGIN:VEVENT
DTSTART;TZID=Europe/Madrid:20210905T213000
DTEND;TZID=Europe/Madrid:20210905T233000
DTSTAMP:20260425T140339
CREATED:20210901T144846Z
LAST-MODIFIED:20210901T144846Z
UID:6912-1630877400-1630884600@www.febandasrmurcia.com
SUMMARY:ANTOLOGÍA: "DE LA ZARZUELA A LA ÓPERA" - Sociedad Musical de Cehegín
DESCRIPTION:
URL:https://www.febandasrmurcia.com/eventos/antologia-de-la-zarzuela-a-la-opera-sociedad-musical-de-cehegin/
ATTACH;FMTTYPE=image/jpeg:https://www.febandasrmurcia.com/wp-content/uploads/2021/09/ANTOLOGIA-DE-LA-ZARZUELA-A-LA-OPERA-Sociedad-Musical-de-Cehegin.jpg
END:VEVENT
BEGIN:VEVENT
DTSTART;TZID=Europe/Madrid:20210911T203000
DTEND;TZID=Europe/Madrid:20210911T223000
DTSTAMP:20260425T140339
CREATED:20210911T075601Z
LAST-MODIFIED:20210911T075601Z
UID:6925-1631392200-1631399400@www.febandasrmurcia.com
SUMMARY:33º FESTIVAL DE BANDAS DE MÚSICA VILLA DE PLIEGO - Agrupación Musical Ntra. Sra. de los Remedios de Pliego
DESCRIPTION:
URL:https://www.febandasrmurcia.com/eventos/33o-festival-de-bandas-de-musica-villa-de-pliego-agrupacion-musical-ntra-sra-de-los-remedios-de-pliego/
ATTACH;FMTTYPE=image/jpeg:https://www.febandasrmurcia.com/wp-content/uploads/2021/09/33o-FESTIVAL-DE-BANDAS-DE-MUSICA-VILLA-DE-PLIEGO-Agrupacion-Musical-Ntra.-Sra.-de-los-Remedios-de-Pliego.jpg
END:VEVENT
BEGIN:VEVENT
DTSTART;TZID=Europe/Madrid:20210912T210000
DTEND;TZID=Europe/Madrid:20210912T230000
DTSTAMP:20260425T140339
CREATED:20210911T075754Z
LAST-MODIFIED:20210911T075754Z
UID:6929-1631480400-1631487600@www.febandasrmurcia.com
SUMMARY:CONCIERTO MÚSICA Y... ACCIÓN! - Agrupación Musical de Cabezo de Torres
DESCRIPTION:
URL:https://www.febandasrmurcia.com/eventos/concierto-musica-y-accion-agrupacion-musical-de-cabezo-de-torres/
ATTACH;FMTTYPE=image/jpeg:https://www.febandasrmurcia.com/wp-content/uploads/2021/09/CONCIERTO-MUSICA-Y...-ACCION-Agrupacion-Musical-de-Cabezo-de-Torres.jpg
END:VEVENT
BEGIN:VEVENT
DTSTART;TZID=Europe/Madrid:20210915T203000
DTEND;TZID=Europe/Madrid:20210915T233000
DTSTAMP:20260425T140339
CREATED:20210914T060137Z
LAST-MODIFIED:20210913T192021Z
UID:6931-1631737800-1631748600@www.febandasrmurcia.com
SUMMARY:CONCIERTO PASODOBLES 1ª PARTE  - Agrupación Musical La Unión
DESCRIPTION:
URL:https://www.febandasrmurcia.com/eventos/concierto-pasodobles-1a-parte-agrupacion-musical-la-union/
ATTACH;FMTTYPE=image/jpeg:https://www.febandasrmurcia.com/wp-content/uploads/2021/09/CONCIERTO-PASODOBLES-1a-PARTE-Agrupacion-Musical-La-Union.jpg
END:VEVENT
BEGIN:VEVENT
DTSTART;TZID=Europe/Madrid:20210915T203000
DTEND;TZID=Europe/Madrid:20210915T223000
DTSTAMP:20260425T140339
CREATED:20210914T060235Z
LAST-MODIFIED:20210913T191931Z
UID:6935-1631737800-1631745000@www.febandasrmurcia.com
SUMMARY:CONCIERTO 2ª PARTE - Agrupación Musical La Unión
DESCRIPTION:
URL:https://www.febandasrmurcia.com/eventos/concierto-2a-parte-agrupacion-musical-la-union/
ATTACH;FMTTYPE=image/jpeg:https://www.febandasrmurcia.com/wp-content/uploads/2021/09/CONCIERTO-2a-PARTE-Agrupacion-Musical-La-Union.jpg
END:VEVENT
BEGIN:VEVENT
DTSTART;VALUE=DATE:20210917
DTEND;VALUE=DATE:20210918
DTSTAMP:20260425T140339
CREATED:20210831T082910Z
LAST-MODIFIED:20210831T083619Z
UID:6904-1631836800-1631923199@www.febandasrmurcia.com
SUMMARY:SAXOFÓN EN SANTOMERA - Asociación Músico-Cultural Euterpe
DESCRIPTION:
URL:https://www.febandasrmurcia.com/eventos/saxofon-en-santomera-asociacion-musico-cultural-euterpe/
ATTACH;FMTTYPE=image/jpeg:https://www.febandasrmurcia.com/wp-content/uploads/2021/08/CLASES-MAGISTRALES-DE-SAXOFON-Asociacion-Musico-Cultural-Euterpe.jpg
END:VEVENT
BEGIN:VEVENT
DTSTART;VALUE=DATE:20210918
DTEND;VALUE=DATE:20210919
DTSTAMP:20260425T140339
CREATED:20210831T083005Z
LAST-MODIFIED:20210831T083709Z
UID:6906-1631923200-1632009599@www.febandasrmurcia.com
SUMMARY:SAXOFÓN EN SANTOMERA - Asociación Músico-Cultural Euterpe
DESCRIPTION:
URL:https://www.febandasrmurcia.com/eventos/saxofon-en-santomera-asociacion-musico-cultural-euterpe-2/
ATTACH;FMTTYPE=image/jpeg:https://www.febandasrmurcia.com/wp-content/uploads/2021/08/CLASES-MAGISTRALES-DE-SAXOFON-Asociacion-Musico-Cultural-Euterpe.jpg
END:VEVENT
BEGIN:VEVENT
DTSTART;TZID=Europe/Madrid:20210918T200000
DTEND;TZID=Europe/Madrid:20210918T220000
DTSTAMP:20260425T140339
CREATED:20210918T081257Z
LAST-MODIFIED:20210918T081257Z
UID:6957-1631995200-1632002400@www.febandasrmurcia.com
SUMMARY:CONCIERTO LA HISTORIA DE TORRE PACHECO - Unión Musical de Torre Pacheco
DESCRIPTION:
URL:https://www.febandasrmurcia.com/eventos/concierto-la-historia-de-torre-pacheco-union-musical-de-torre-pacheco/
ATTACH;FMTTYPE=image/jpeg:https://www.febandasrmurcia.com/wp-content/uploads/2021/09/CONCIERTO-LA-HISTORIA-DE-TORRE-PACHECO-Union-Musical-de-Torre-Pacheco.jpeg
END:VEVENT
BEGIN:VEVENT
DTSTART;TZID=Europe/Madrid:20210919T200000
DTEND;TZID=Europe/Madrid:20210919T220000
DTSTAMP:20260425T140339
CREATED:20210915T071329Z
LAST-MODIFIED:20210915T071329Z
UID:6951-1632081600-1632088800@www.febandasrmurcia.com
SUMMARY:CONCIERTOS HOMENAJE A D. GINÉS ABELLÁN - Asociación Músico-Cultural Euterpe de Santomera
DESCRIPTION:
URL:https://www.febandasrmurcia.com/eventos/conciertos-homenaje-a-d-gines-abellan-asociacion-musico-cultural-euterpe-de-santomera/
ATTACH;FMTTYPE=image/jpeg:https://www.febandasrmurcia.com/wp-content/uploads/2021/09/CONCIERTOS-HOMENAJE-A-D.-GINES-ABELLAN-Asociacion-Musico-Cultural-Euterpe-de-Santomera.jpg
END:VEVENT
BEGIN:VEVENT
DTSTART;TZID=Europe/Madrid:20210925T200000
DTEND;TZID=Europe/Madrid:20210925T220000
DTSTAMP:20260425T140339
CREATED:20210909T151443Z
LAST-MODIFIED:20210909T151443Z
UID:6919-1632600000-1632607200@www.febandasrmurcia.com
SUMMARY:CONCIERTO DE CLAUSUTRA YECLA JAZZ FESTIVAL- Asociación de Amigos de la Música de Yecla
DESCRIPTION:
URL:https://www.febandasrmurcia.com/eventos/concierto-de-clausutra-yecla-jazz-festival-asociacion-de-amigos-de-la-musica-de-yecla/
ATTACH;FMTTYPE=image/jpeg:https://www.febandasrmurcia.com/wp-content/uploads/2021/09/CONCIERTO-DE-CLAUSUTRA-YECLA-JAZZ-FESTIVAL-Asociacion-de-Amigos-de-la-Musica-de-Yecla.jpeg
END:VEVENT
BEGIN:VEVENT
DTSTART;TZID=Europe/Madrid:20210925T200000
DTEND;TZID=Europe/Madrid:20210925T220000
DTSTAMP:20260425T140339
CREATED:20210914T145120Z
LAST-MODIFIED:20210914T145120Z
UID:6946-1632600000-1632607200@www.febandasrmurcia.com
SUMMARY:XXXI FESTIVAL DE BANDAS "VILLA DE ABARÁN" - Agrupación Musical Santa Cecilia de Abarán
DESCRIPTION:
URL:https://www.febandasrmurcia.com/eventos/xxxi-festival-de-bandas-villa-de-abaran-agrupacion-musical-santa-cecilia-de-abaran/
ATTACH;FMTTYPE=image/jpeg:https://www.febandasrmurcia.com/wp-content/uploads/2021/09/XXXI-FESTIVAL-DE-BANDAS-VILLA-DE-ABARAN-Agrupacion-Musical-Santa-Cecilia-de-Abaran.jpeg
END:VEVENT
BEGIN:VEVENT
DTSTART;TZID=Europe/Madrid:20210925T210000
DTEND;TZID=Europe/Madrid:20210925T230000
DTSTAMP:20260425T140339
CREATED:20210920T184727Z
LAST-MODIFIED:20210920T184728Z
UID:6962-1632603600-1632610800@www.febandasrmurcia.com
SUMMARY:CONCIERTO WE LOVE SYMPHONIC ROCK & POP - Banda Sinfónica de San Javier
DESCRIPTION:
URL:https://www.febandasrmurcia.com/eventos/concierto-we-love-symphonic-rock-pop-banda-sinfonica-de-san-javier/
ATTACH;FMTTYPE=image/jpeg:https://www.febandasrmurcia.com/wp-content/uploads/2021/09/CONCIERTO-WE-LOVE-SYMPHONIC-ROCK-POP-Banda-Sinfonica-de-San-Javier.jpg
END:VEVENT
BEGIN:VEVENT
DTSTART;TZID=Europe/Madrid:20210926T110000
DTEND;TZID=Europe/Madrid:20210926T130000
DTSTAMP:20260425T140339
CREATED:20210923T152215Z
LAST-MODIFIED:20210923T152215Z
UID:6967-1632654000-1632661200@www.febandasrmurcia.com
SUMMARY:CONCIERTO - Agrupación Musical Virgen de la Fuensanta (Patiño)
DESCRIPTION:
URL:https://www.febandasrmurcia.com/eventos/concierto-agrupacion-musical-virgen-de-la-fuensanta-patino/
ATTACH;FMTTYPE=image/jpeg:https://www.febandasrmurcia.com/wp-content/uploads/2021/09/IMG_20210923_143754.jpg
END:VEVENT
END:VCALENDAR