BEGIN:VCALENDAR
VERSION:2.0
PRODID:-//Federación de Bandas de Música de la Región de Murcia - ECPv5.5.0.1//NONSGML v1.0//EN
CALSCALE:GREGORIAN
METHOD:PUBLISH
X-WR-CALNAME:Federación de Bandas de Música de la Región de Murcia
X-ORIGINAL-URL:https://www.febandasrmurcia.com
X-WR-CALDESC:Eventos para Federación de Bandas de Música de la Región de Murcia
BEGIN:VTIMEZONE
TZID:Europe/Madrid
BEGIN:DAYLIGHT
TZOFFSETFROM:+0100
TZOFFSETTO:+0200
TZNAME:CEST
DTSTART:20210328T010000
END:DAYLIGHT
BEGIN:STANDARD
TZOFFSETFROM:+0200
TZOFFSETTO:+0100
TZNAME:CET
DTSTART:20211031T010000
END:STANDARD
END:VTIMEZONE
BEGIN:VEVENT
DTSTART;TZID=Europe/Madrid:20211003T190000
DTEND;TZID=Europe/Madrid:20211003T210000
DTSTAMP:20260425T122318
CREATED:20210930T114648Z
LAST-MODIFIED:20210930T114648Z
UID:6975-1633287600-1633294800@www.febandasrmurcia.com
SUMMARY:XXXVI FESTIVAL DE BANDAS DE MÚSICA - Agrupación Musical de Alhama de Murcia
DESCRIPTION:
URL:https://www.febandasrmurcia.com/eventos/xxxvi-festival-de-bandas-de-musica-agrupacion-musical-de-alhama-de-murcia/
ATTACH;FMTTYPE=image/jpeg:https://www.febandasrmurcia.com/wp-content/uploads/2021/09/XXXVI-FESTIVAL-DE-BANDAS-DE-MUSICA-Agrupacion-Musical-de-Alhama-de-Murcia.jpg
END:VEVENT
BEGIN:VEVENT
DTSTART;TZID=Europe/Madrid:20211003T210000
DTEND;TZID=Europe/Madrid:20211003T230000
DTSTAMP:20260425T122318
CREATED:20210930T114923Z
LAST-MODIFIED:20210930T114923Z
UID:6979-1633294800-1633302000@www.febandasrmurcia.com
SUMMARY:CONCIERTO - Asociación Musical Villa de Bullas
DESCRIPTION:
URL:https://www.febandasrmurcia.com/eventos/concierto-asociacion-musical-villa-de-bullas/
ATTACH;FMTTYPE=image/jpeg:https://www.febandasrmurcia.com/wp-content/uploads/2021/09/CONCIERTO-Asocciacion-Musical-Villa-de-Bullas.jpg
END:VEVENT
BEGIN:VEVENT
DTSTART;TZID=Europe/Madrid:20211009T190000
DTEND;TZID=Europe/Madrid:20211009T210000
DTSTAMP:20260425T122318
CREATED:20211004T064201Z
LAST-MODIFIED:20211004T064201Z
UID:6991-1633806000-1633813200@www.febandasrmurcia.com
SUMMARY:XXIII FESTIVAL DE BANDAS - Asociación Musical "Julián Santos" de Jumilla
DESCRIPTION:
URL:https://www.febandasrmurcia.com/eventos/xxiii-festival-de-bandas-asociacion-musical-julian-santos-de-jumilla/
ATTACH;FMTTYPE=image/jpeg:https://www.febandasrmurcia.com/wp-content/uploads/2021/10/244380409_255543303244521_4560144179809664534_n.jpg
END:VEVENT
BEGIN:VEVENT
DTSTART;TZID=Europe/Madrid:20211010T180000
DTEND;TZID=Europe/Madrid:20211010T200000
DTSTAMP:20260425T122318
CREATED:20211003T170918Z
LAST-MODIFIED:20211003T170918Z
UID:6986-1633888800-1633896000@www.febandasrmurcia.com
SUMMARY:CONCIERTO DE SOLISTAS - SAM Santa Cecilia de Pozo Estrecho
DESCRIPTION:
URL:https://www.febandasrmurcia.com/eventos/concierto-de-solistas-sam-santa-cecilia-de-pozo-estrecho/
END:VEVENT
BEGIN:VEVENT
DTSTART;TZID=Europe/Madrid:20211010T180000
DTEND;TZID=Europe/Madrid:20211010T200000
DTSTAMP:20260425T122318
CREATED:20211007T165553Z
LAST-MODIFIED:20211007T165553Z
UID:6996-1633888800-1633896000@www.febandasrmurcia.com
SUMMARY:CONCIERTO DE BANDAS DE MÚSICA - Agrupación Musical Ntra. Sra. de la Soledad (Molino Marfagones) y SAM Santa Cecilia (Pozo Estrecho)
DESCRIPTION:
URL:https://www.febandasrmurcia.com/eventos/concierto-de-bandas-de-musica-agrupacion-musical-ntra-sra-de-la-soledad-molino-marfagones-y-sam-santa-cecilia-pozo-estrecho/
ATTACH;FMTTYPE=image/jpeg:https://www.febandasrmurcia.com/wp-content/uploads/2021/10/CONCIERTO-DE-BANDAS-DE-MUSICA-Agrupacion-Musical-Ntra.-Sra.-de-la-Soledad-Molino-Marfagones-y-SAM-Santa-Cecilia-Pozo-Estrecho.jpg
END:VEVENT
BEGIN:VEVENT
DTSTART;TZID=Europe/Madrid:20211010T213000
DTEND;TZID=Europe/Madrid:20211010T233000
DTSTAMP:20260425T122318
CREATED:20211014T112742Z
LAST-MODIFIED:20211014T112742Z
UID:7013-1633901400-1633908600@www.febandasrmurcia.com
SUMMARY:GRAN CONCIERTO LÍRICO - Agrupación Musical de Blanca
DESCRIPTION:
URL:https://www.febandasrmurcia.com/eventos/gran-concierto-lirico-agrupacion-musical-de-blanca-3/
ATTACH;FMTTYPE=image/jpeg:https://www.febandasrmurcia.com/wp-content/uploads/2021/10/GRAN-CONCIERTO-LIRICO-Agrupacion-Musical-de-Blanca.jpg
END:VEVENT
BEGIN:VEVENT
DTSTART;TZID=Europe/Madrid:20211011T193000
DTEND;TZID=Europe/Madrid:20211011T213000
DTSTAMP:20260425T122318
CREATED:20211008T152155Z
LAST-MODIFIED:20211008T152155Z
UID:7004-1633980600-1633987800@www.febandasrmurcia.com
SUMMARY:CONCIERTO DE PASODOBLES "RAÍCES" - Asociación Músico-Cultural "Las Musas" de Guadalupe
DESCRIPTION:
URL:https://www.febandasrmurcia.com/eventos/concierto-de-pasodobles-raices-asociacion-musico-cultural-las-musas-de-guadalupe/
ATTACH;FMTTYPE=image/jpeg:https://www.febandasrmurcia.com/wp-content/uploads/2021/10/CONCIERTO-DE-PASODOBLES-RAICES-Asociacion-Musico-Cultural-Las-Musas-de-Guadalupe.jpg
END:VEVENT
BEGIN:VEVENT
DTSTART;TZID=Europe/Madrid:20211012T120000
DTEND;TZID=Europe/Madrid:20211012T140000
DTSTAMP:20260425T122318
CREATED:20211003T170727Z
LAST-MODIFIED:20211003T170727Z
UID:6984-1634040000-1634047200@www.febandasrmurcia.com
SUMMARY:CONCIERTO 12 DE OCTUBRE - Unión Musical Cartagonova
DESCRIPTION:
URL:https://www.febandasrmurcia.com/eventos/concierto-12-de-octubre-union-musical-cartagonova/
ATTACH;FMTTYPE=image/jpeg:https://www.febandasrmurcia.com/wp-content/uploads/2021/10/CONCIERTO-12-DE-OCTUBRE-Union-Musical-Cartagonova.jpg
END:VEVENT
BEGIN:VEVENT
DTSTART;TZID=Europe/Madrid:20211015T190000
DTEND;TZID=Europe/Madrid:20211015T210000
DTSTAMP:20260425T122318
CREATED:20211014T113000Z
LAST-MODIFIED:20211014T113000Z
UID:7019-1634324400-1634331600@www.febandasrmurcia.com
SUMMARY:MÚSICA Y TRADICIÓN POPULAR - Sociedad Artístico-Musical "Santa Cecilia"
DESCRIPTION:
URL:https://www.febandasrmurcia.com/eventos/musica-y-tradicion-popular-sociedad-artistico-musical-santa-cecilia/
ATTACH;FMTTYPE=image/jpeg:https://www.febandasrmurcia.com/wp-content/uploads/2021/10/MUSICA-Y-TRADICION-POPULAR-Sociedad-Artistico-Musical-Santa-Cecilia.jpg
END:VEVENT
BEGIN:VEVENT
DTSTART;TZID=Europe/Madrid:20211022T213000
DTEND;TZID=Europe/Madrid:20211022T233000
DTSTAMP:20260425T122318
CREATED:20211022T174408Z
LAST-MODIFIED:20211022T174408Z
UID:7026-1634938200-1634945400@www.febandasrmurcia.com
SUMMARY:CONCIERTO MARCHAS MORAS Y CRISTIANAS - Banda Municipal de Música de Cieza
DESCRIPTION:
URL:https://www.febandasrmurcia.com/eventos/concierto-marchas-moras-y-cristianas-banda-municipal-de-musica-de-cieza/
ATTACH;FMTTYPE=image/jpeg:https://www.febandasrmurcia.com/wp-content/uploads/2021/10/CONCIERTO-MARCHAS-MORAS-Y-CRISTIANAS-Banda-Municipal-de-Musica-de-Cieza.jpg
END:VEVENT
END:VCALENDAR