BEGIN:VCALENDAR
VERSION:2.0
PRODID:-//Federación de Bandas de Música de la Región de Murcia - ECPv5.5.0.1//NONSGML v1.0//EN
CALSCALE:GREGORIAN
METHOD:PUBLISH
X-WR-CALNAME:Federación de Bandas de Música de la Región de Murcia
X-ORIGINAL-URL:https://www.febandasrmurcia.com
X-WR-CALDESC:Eventos para Federación de Bandas de Música de la Región de Murcia
BEGIN:VTIMEZONE
TZID:Europe/Madrid
BEGIN:DAYLIGHT
TZOFFSETFROM:+0100
TZOFFSETTO:+0200
TZNAME:CEST
DTSTART:20210328T010000
END:DAYLIGHT
BEGIN:STANDARD
TZOFFSETFROM:+0200
TZOFFSETTO:+0100
TZNAME:CET
DTSTART:20211031T010000
END:STANDARD
BEGIN:DAYLIGHT
TZOFFSETFROM:+0100
TZOFFSETTO:+0200
TZNAME:CEST
DTSTART:20220327T010000
END:DAYLIGHT
BEGIN:STANDARD
TZOFFSETFROM:+0200
TZOFFSETTO:+0100
TZNAME:CET
DTSTART:20221030T010000
END:STANDARD
END:VTIMEZONE
BEGIN:VEVENT
DTSTART;VALUE=DATE:20211227
DTEND;VALUE=DATE:20211228
DTSTAMP:20260422T230043
CREATED:20211223T085404Z
LAST-MODIFIED:20211223T085404Z
UID:7503-1640563200-1640649599@www.febandasrmurcia.com
SUMMARY:MASTER CLASS DE DIRECCIÓN CON FRANCISCO JAVIER GUTIÉRREZ - Banda Villa de Bullas
DESCRIPTION:
URL:https://www.febandasrmurcia.com/eventos/master-class-de-direccion-con-francisco-javier-gutierrez-banda-villa-de-bullas/
ATTACH;FMTTYPE=image/jpeg:https://www.febandasrmurcia.com/wp-content/uploads/2021/12/MASTER-CLASS-DE-DIRECCION-CON-FRANCISCO-JAVIER-GUTIERREZ-Banda-Villa-de-Bullas.jpg
END:VEVENT
BEGIN:VEVENT
DTSTART;VALUE=DATE:20211228
DTEND;VALUE=DATE:20211229
DTSTAMP:20260422T230043
CREATED:20211223T085445Z
LAST-MODIFIED:20211223T085445Z
UID:7505-1640649600-1640735999@www.febandasrmurcia.com
SUMMARY:MASTER CLASS DE DIRECCIÓN CON FRANCISCO JAVIER GUTIÉRREZ - Banda Villa de Bullas
DESCRIPTION:
URL:https://www.febandasrmurcia.com/eventos/master-class-de-direccion-con-francisco-javier-gutierrez-banda-villa-de-bullas-2/
ATTACH;FMTTYPE=image/jpeg:https://www.febandasrmurcia.com/wp-content/uploads/2021/12/MASTER-CLASS-DE-DIRECCION-CON-FRANCISCO-JAVIER-GUTIERREZ-Banda-Villa-de-Bullas.jpg
END:VEVENT
BEGIN:VEVENT
DTSTART;VALUE=DATE:20211229
DTEND;VALUE=DATE:20211230
DTSTAMP:20260422T230043
CREATED:20211223T085526Z
LAST-MODIFIED:20211223T085526Z
UID:7507-1640736000-1640822399@www.febandasrmurcia.com
SUMMARY:MASTER CLASS DE DIRECCIÓN CON FRANCISCO JAVIER GUTIÉRREZ - Banda Villa de Bullas
DESCRIPTION:
URL:https://www.febandasrmurcia.com/eventos/master-class-de-direccion-con-francisco-javier-gutierrez-banda-villa-de-bullas-3/
ATTACH;FMTTYPE=image/jpeg:https://www.febandasrmurcia.com/wp-content/uploads/2021/12/MASTER-CLASS-DE-DIRECCION-CON-FRANCISCO-JAVIER-GUTIERREZ-Banda-Villa-de-Bullas.jpg
END:VEVENT
BEGIN:VEVENT
DTSTART;TZID=Europe/Madrid:20211229T194500
DTEND;TZID=Europe/Madrid:20211229T220000
DTSTAMP:20260422T230043
CREATED:20211214T165508Z
LAST-MODIFIED:20211214T165508Z
UID:7400-1640807100-1640815200@www.febandasrmurcia.com
SUMMARY:CONCIERTO DE NAVIDAD - Unión Musical "Santa Cruz" de Abanilla
DESCRIPTION:
URL:https://www.febandasrmurcia.com/eventos/concierto-de-navidad-union-musical-santa-cruz-de-abanilla/
ATTACH;FMTTYPE=image/jpeg:https://www.febandasrmurcia.com/wp-content/uploads/2021/12/NAVIDAD-2021-Union-Musical-Santa-Cruz-de-Abanilla.jpg
END:VEVENT
BEGIN:VEVENT
DTSTART;TZID=Europe/Madrid:20211229T200000
DTEND;TZID=Europe/Madrid:20211229T220000
DTSTAMP:20260422T230043
CREATED:20211230T172338Z
LAST-MODIFIED:20211230T172338Z
UID:7537-1640808000-1640815200@www.febandasrmurcia.com
SUMMARY:CONCIERTO ¡FELICES FIESTAS! - Banda Municipal de Música de Cieza
DESCRIPTION:
URL:https://www.febandasrmurcia.com/eventos/concierto-felices-fiestas-banda-municipal-de-musica-de-cieza/
ATTACH;FMTTYPE=image/jpeg:https://www.febandasrmurcia.com/wp-content/uploads/2021/12/CONCIERTO-¡FELICES-FIESTAS-Banda-Municipal-de-Musica-de-Cieza.jpg
END:VEVENT
BEGIN:VEVENT
DTSTART;TZID=Europe/Madrid:20211229T210000
DTEND;TZID=Europe/Madrid:20211229T223000
DTSTAMP:20260422T230043
CREATED:20211223T163015Z
LAST-MODIFIED:20211223T085905Z
UID:7512-1640811600-1640817000@www.febandasrmurcia.com
SUMMARY:CONCIERTO "CARMEN" - Asociación de Amigos de la Música de Yecla
DESCRIPTION:
URL:https://www.febandasrmurcia.com/eventos/concierto-carmen-asociacion-de-amigos-de-la-musica-de-yecla/
ATTACH;FMTTYPE=image/jpeg:https://www.febandasrmurcia.com/wp-content/uploads/2021/12/CONCIERTO-CARMEN-Asociacion-de-Amigos-de-la-Musica-de-Yecla.jpg
END:VEVENT
BEGIN:VEVENT
DTSTART;TZID=Europe/Madrid:20211230T170000
DTEND;TZID=Europe/Madrid:20211230T190000
DTSTAMP:20260422T230043
CREATED:20211230T172544Z
LAST-MODIFIED:20211230T172544Z
UID:7541-1640883600-1640890800@www.febandasrmurcia.com
SUMMARY:CONCIERTO FIN DE AÑO - Asociación Musical Julián Santos
DESCRIPTION:
URL:https://www.febandasrmurcia.com/eventos/concierto-fin-de-ano-asociacion-musical-julian-santos/
ATTACH;FMTTYPE=image/jpeg:https://www.febandasrmurcia.com/wp-content/uploads/2021/12/CONCIERTO-FIN-DE-ANO-Asociacion-Musical-Julian-Santos.jpg
END:VEVENT
BEGIN:VEVENT
DTSTART;TZID=Europe/Madrid:20211230T193000
DTEND;TZID=Europe/Madrid:20211230T213000
DTSTAMP:20260422T230043
CREATED:20211205T093155Z
LAST-MODIFIED:20211205T093155Z
UID:7353-1640892600-1640899800@www.febandasrmurcia.com
SUMMARY:CONCIERTOS NAVIDEÑOS - Asociación Musical Julián Santos de Jumilla
DESCRIPTION:
URL:https://www.febandasrmurcia.com/eventos/conciertos-navidenos-asociacion-musical-julian-santos-de-jumilla-3/
ATTACH;FMTTYPE=image/jpeg:https://www.febandasrmurcia.com/wp-content/uploads/2021/12/CONCIERTOS-NAVIDENOS-Asociacion-Musical-Julian-Santos-de-Jumilla.jpg
END:VEVENT
BEGIN:VEVENT
DTSTART;TZID=Europe/Madrid:20211231T120000
DTEND;TZID=Europe/Madrid:20211231T140000
DTSTAMP:20260422T230043
CREATED:20211230T172749Z
LAST-MODIFIED:20211230T172749Z
UID:7545-1640952000-1640959200@www.febandasrmurcia.com
SUMMARY:CONCIERTO INTERACTIVO - Asociación Músico-Cultural Las Musas de Guadalupe
DESCRIPTION:
URL:https://www.febandasrmurcia.com/eventos/concierto-interactivo-asociacion-musico-cultural-las-musas-de-guadalupe-2/
ATTACH;FMTTYPE=image/jpeg:https://www.febandasrmurcia.com/wp-content/uploads/2021/12/CONCIERTO-INTERACTIVO-Asociacion-Musico-Cultural-Las-Musas-de-Guadalupe-1.jpg
END:VEVENT
BEGIN:VEVENT
DTSTART;TZID=Europe/Madrid:20220102T123000
DTEND;TZID=Europe/Madrid:20220102T140000
DTSTAMP:20260422T230043
CREATED:20211230T173000Z
LAST-MODIFIED:20211230T173000Z
UID:7549-1641126600-1641132000@www.febandasrmurcia.com
SUMMARY:CONCIERTO UN AÑO NUEVO DE CINE - Agrupación Musical de Blanca
DESCRIPTION:
URL:https://www.febandasrmurcia.com/eventos/concierto-un-ano-nuevo-de-cine-agrupacion-musical-de-blanca/
ATTACH;FMTTYPE=image/jpeg:https://www.febandasrmurcia.com/wp-content/uploads/2021/12/CONCIERTO-UN-ANO-NUEVO-DE-CINE-Agrupacion-Musical-de-Blanca.jpg
END:VEVENT
BEGIN:VEVENT
DTSTART;TZID=Europe/Madrid:20220102T163000
DTEND;TZID=Europe/Madrid:20220102T183000
DTSTAMP:20260422T230043
CREATED:20211230T173223Z
LAST-MODIFIED:20211230T173223Z
UID:7554-1641141000-1641148200@www.febandasrmurcia.com
SUMMARY:CONCIERTO DE AÑO NUEVO - Agrupación Musical Cristo del Valle
DESCRIPTION:
URL:https://www.febandasrmurcia.com/eventos/concierto-de-ano-nuevo-agrupacion-musical-cristo-del-valle/
ATTACH;FMTTYPE=image/png:https://www.febandasrmurcia.com/wp-content/uploads/2021/12/CONCIERTO-DE-ANO-NUEVO-Agrupacion-Musical-Cristo-del-Valle.png
END:VEVENT
BEGIN:VEVENT
DTSTART;TZID=Europe/Madrid:20220129T200000
DTEND;TZID=Europe/Madrid:20220129T220000
DTSTAMP:20260422T230043
CREATED:20220130T090113Z
LAST-MODIFIED:20220130T090113Z
UID:7589-1643486400-1643493600@www.febandasrmurcia.com
SUMMARY:XXX CONCURSO INTERNACIONAL DE COMPOSICIÓN MUSICAL DE PASODOBLES "VILLA DE POZO ESTRECHO"
DESCRIPTION:
URL:https://www.febandasrmurcia.com/eventos/xxx-concurso-internacional-de-composicion-musical-de-pasodobles-villa-de-pozo-estrecho/
ATTACH;FMTTYPE=image/jpeg:https://www.febandasrmurcia.com/wp-content/uploads/2022/01/XXX-CONCURSO-INTERNACIONAL-DE-COMPOSICION-MUSICAL-DE-PASODOBLES-VILLA-DE-POZO-ESTRECHO.jpg
END:VEVENT
BEGIN:VEVENT
DTSTART;TZID=Europe/Madrid:20220130T100000
DTEND;TZID=Europe/Madrid:20220130T140000
DTSTAMP:20260422T230043
CREATED:20220120T083816Z
LAST-MODIFIED:20220120T083816Z
UID:7569-1643536800-1643551200@www.febandasrmurcia.com
SUMMARY:WEBINAR: Elaboración de Proyectos ERASMUS+ en las bandas de música
DESCRIPTION:
URL:https://www.febandasrmurcia.com/eventos/webinar-elaboracion-de-proyectos-erasmus-en-las-bandas-de-musica/
ATTACH;FMTTYPE=image/png:https://www.febandasrmurcia.com/wp-content/uploads/2022/01/WEBINAR-Elaboracion-Proyectos-ERASMUS-2022-DEFINITIVO.png
END:VEVENT
END:VCALENDAR