BEGIN:VCALENDAR
VERSION:2.0
PRODID:-//Federación de Bandas de Música de la Región de Murcia - ECPv5.5.0.1//NONSGML v1.0//EN
CALSCALE:GREGORIAN
METHOD:PUBLISH
X-WR-CALNAME:Federación de Bandas de Música de la Región de Murcia
X-ORIGINAL-URL:https://www.febandasrmurcia.com
X-WR-CALDESC:Eventos para Federación de Bandas de Música de la Región de Murcia
BEGIN:VTIMEZONE
TZID:Europe/Madrid
BEGIN:DAYLIGHT
TZOFFSETFROM:+0100
TZOFFSETTO:+0200
TZNAME:CEST
DTSTART:20220327T010000
END:DAYLIGHT
BEGIN:STANDARD
TZOFFSETFROM:+0200
TZOFFSETTO:+0100
TZNAME:CET
DTSTART:20221030T010000
END:STANDARD
END:VTIMEZONE
BEGIN:VEVENT
DTSTART;TZID=Europe/Madrid:20220219T210000
DTEND;TZID=Europe/Madrid:20220219T230000
DTSTAMP:20260422T210439
CREATED:20220215T151821Z
LAST-MODIFIED:20220215T151821Z
UID:7595-1645304400-1645311600@www.febandasrmurcia.com
SUMMARY:RECORDANDO A NINO BRAVO - UNIÓN MUSICAL DE TORRE PACHECO
DESCRIPTION:
URL:https://www.febandasrmurcia.com/eventos/recordando-a-nino-bravo-union-musical-de-torre-pacheco/
ATTACH;FMTTYPE=image/jpeg:https://www.febandasrmurcia.com/wp-content/uploads/2022/02/RECORDANDO-A-NINO-BRAVO-UNION-MUSICAL-DE-TORRE-PACHECO.jpg
END:VEVENT
BEGIN:VEVENT
DTSTART;TZID=Europe/Madrid:20220226T173000
DTEND;TZID=Europe/Madrid:20220226T193000
DTSTAMP:20260422T210439
CREATED:20220225T145742Z
LAST-MODIFIED:20220225T145742Z
UID:7635-1645896600-1645903800@www.febandasrmurcia.com
SUMMARY:MÚSICA ENTRE BARRICAS - BANDA JUVENIL A. M. JULIÁN SANTOS
DESCRIPTION:
URL:https://www.febandasrmurcia.com/eventos/musica-entre-barricas-banda-juvenil-a-m-julian-santos/
ATTACH;FMTTYPE=image/jpeg:https://www.febandasrmurcia.com/wp-content/uploads/2022/02/MUSICA-ENTRE-BARRICAS-BANDA-JUVENIL-A.-M.-JULIAN-SANTOS.jpg
END:VEVENT
BEGIN:VEVENT
DTSTART;TZID=Europe/Madrid:20220305T180000
DTEND;TZID=Europe/Madrid:20220305T200000
DTSTAMP:20260422T210439
CREATED:20220308T175117Z
LAST-MODIFIED:20220308T175117Z
UID:7664-1646503200-1646510400@www.febandasrmurcia.com
SUMMARY:CONCIERTO - UNIÓN MUSICAL TORRE PACHECO
DESCRIPTION:
URL:https://www.febandasrmurcia.com/eventos/concierto-union-musical-torre-pacheco/
ATTACH;FMTTYPE=image/jpeg:https://www.febandasrmurcia.com/wp-content/uploads/2022/03/CONCIERTO-UNION-MUSICAL-TORRE-PACHECO.jpg
END:VEVENT
BEGIN:VEVENT
DTSTART;TZID=Europe/Madrid:20220305T200000
DTEND;TZID=Europe/Madrid:20220305T220000
DTSTAMP:20260422T210439
CREATED:20220225T145946Z
LAST-MODIFIED:20220225T145946Z
UID:7639-1646510400-1646517600@www.febandasrmurcia.com
SUMMARY:UN VIAJE A TRAVÉS DE LAS ESTRELLAS - BANDA ATENEO MÚSICO CULTURAL MAESTRO JOSÉ ANTONIO AYALA
DESCRIPTION:
URL:https://www.febandasrmurcia.com/eventos/un-viaje-a-traves-de-las-estrellas-banda-ateneo-musico-cultural-maestro-jose-antonio-ayala/
ATTACH;FMTTYPE=image/jpeg:https://www.febandasrmurcia.com/wp-content/uploads/2022/02/UN-VIAJE-A-TRAVES-DE-LAS-ESTRELLAS-BANDA-ATENEO-MUSICO-CULTURAL-MAESTRO-JOSE-ANTONIO-AYALA.jpg
END:VEVENT
BEGIN:VEVENT
DTSTART;TZID=Europe/Madrid:20220305T200000
DTEND;TZID=Europe/Madrid:20220305T220000
DTSTAMP:20260422T210439
CREATED:20220225T150133Z
LAST-MODIFIED:20220225T150133Z
UID:7643-1646510400-1646517600@www.febandasrmurcia.com
SUMMARY:CONCIERTO DÍA DE ALGEZARES - AGRUPACIÓN MUSICAL VIRGEN DE LA FUENSANTA DE PATIÑO
DESCRIPTION:
URL:https://www.febandasrmurcia.com/eventos/concierto-dia-de-algezares-agrupacion-musical-virgen-de-la-fuensanta-de-patino/
ATTACH;FMTTYPE=image/jpeg:https://www.febandasrmurcia.com/wp-content/uploads/2022/02/CONCIERTO-DIA-DE-ALGEZARES-AGRUPACION-MUSICAL-VIRGEN-DE-LA-FUENSANTA-DE-PATINO.jpg
END:VEVENT
END:VCALENDAR