BEGIN:VCALENDAR
VERSION:2.0
PRODID:-//Federación de Bandas de Música de la Región de Murcia - ECPv5.5.0.1//NONSGML v1.0//EN
CALSCALE:GREGORIAN
METHOD:PUBLISH
X-WR-CALNAME:Federación de Bandas de Música de la Región de Murcia
X-ORIGINAL-URL:https://www.febandasrmurcia.com
X-WR-CALDESC:Eventos para Federación de Bandas de Música de la Región de Murcia
BEGIN:VTIMEZONE
TZID:Europe/Madrid
BEGIN:DAYLIGHT
TZOFFSETFROM:+0100
TZOFFSETTO:+0200
TZNAME:CEST
DTSTART:20220327T010000
END:DAYLIGHT
BEGIN:STANDARD
TZOFFSETFROM:+0200
TZOFFSETTO:+0100
TZNAME:CET
DTSTART:20221030T010000
END:STANDARD
END:VTIMEZONE
BEGIN:VEVENT
DTSTART;TZID=Europe/Madrid:20220305T180000
DTEND;TZID=Europe/Madrid:20220305T200000
DTSTAMP:20260422T192655
CREATED:20220308T175117Z
LAST-MODIFIED:20220308T175117Z
UID:7664-1646503200-1646510400@www.febandasrmurcia.com
SUMMARY:CONCIERTO - UNIÓN MUSICAL TORRE PACHECO
DESCRIPTION:
URL:https://www.febandasrmurcia.com/eventos/concierto-union-musical-torre-pacheco/
ATTACH;FMTTYPE=image/jpeg:https://www.febandasrmurcia.com/wp-content/uploads/2022/03/CONCIERTO-UNION-MUSICAL-TORRE-PACHECO.jpg
END:VEVENT
BEGIN:VEVENT
DTSTART;TZID=Europe/Madrid:20220305T200000
DTEND;TZID=Europe/Madrid:20220305T220000
DTSTAMP:20260422T192655
CREATED:20220225T145946Z
LAST-MODIFIED:20220225T145946Z
UID:7639-1646510400-1646517600@www.febandasrmurcia.com
SUMMARY:UN VIAJE A TRAVÉS DE LAS ESTRELLAS - BANDA ATENEO MÚSICO CULTURAL MAESTRO JOSÉ ANTONIO AYALA
DESCRIPTION:
URL:https://www.febandasrmurcia.com/eventos/un-viaje-a-traves-de-las-estrellas-banda-ateneo-musico-cultural-maestro-jose-antonio-ayala/
ATTACH;FMTTYPE=image/jpeg:https://www.febandasrmurcia.com/wp-content/uploads/2022/02/UN-VIAJE-A-TRAVES-DE-LAS-ESTRELLAS-BANDA-ATENEO-MUSICO-CULTURAL-MAESTRO-JOSE-ANTONIO-AYALA.jpg
END:VEVENT
BEGIN:VEVENT
DTSTART;TZID=Europe/Madrid:20220305T200000
DTEND;TZID=Europe/Madrid:20220305T220000
DTSTAMP:20260422T192655
CREATED:20220225T150133Z
LAST-MODIFIED:20220225T150133Z
UID:7643-1646510400-1646517600@www.febandasrmurcia.com
SUMMARY:CONCIERTO DÍA DE ALGEZARES - AGRUPACIÓN MUSICAL VIRGEN DE LA FUENSANTA DE PATIÑO
DESCRIPTION:
URL:https://www.febandasrmurcia.com/eventos/concierto-dia-de-algezares-agrupacion-musical-virgen-de-la-fuensanta-de-patino/
ATTACH;FMTTYPE=image/jpeg:https://www.febandasrmurcia.com/wp-content/uploads/2022/02/CONCIERTO-DIA-DE-ALGEZARES-AGRUPACION-MUSICAL-VIRGEN-DE-LA-FUENSANTA-DE-PATINO.jpg
END:VEVENT
BEGIN:VEVENT
DTSTART;TZID=Europe/Madrid:20220306T120000
DTEND;TZID=Europe/Madrid:20220306T140000
DTSTAMP:20260422T192655
CREATED:20220215T152232Z
LAST-MODIFIED:20220215T152232Z
UID:7600-1646568000-1646575200@www.febandasrmurcia.com
SUMMARY:CONCIERTO DISNEY - SOCIEDAD MUSICAL DE CEHEGÍN
DESCRIPTION:
URL:https://www.febandasrmurcia.com/eventos/concierto-disney-sociedad-musical-de-cehegin-2/
ATTACH;FMTTYPE=image/jpeg:https://www.febandasrmurcia.com/wp-content/uploads/2022/02/CONCIERTO-DISNEY-SOCIEDAD-MUSICAL-DE-CEHEGIN.jpg
END:VEVENT
BEGIN:VEVENT
DTSTART;TZID=Europe/Madrid:20220306T120000
DTEND;TZID=Europe/Madrid:20220306T140000
DTSTAMP:20260422T192655
CREATED:20220228T210443Z
LAST-MODIFIED:20220228T211054Z
UID:7652-1646568000-1646575200@www.febandasrmurcia.com
SUMMARY:CICLO "BANDAS EN EL AUDITORIO" - UNIÓN MUSICAL SAN PEDRO DEL PINATAR
DESCRIPTION:
URL:https://www.febandasrmurcia.com/eventos/ciclo-bandas-en-el-auditorio-union-musical-san-pedro-del-pinatar/
ATTACH;FMTTYPE=image/jpeg:https://www.febandasrmurcia.com/wp-content/uploads/2022/02/CICLO-BANDAS-EN-EL-AUDITORIO-UNION-MUSICAL-SAN-PEDRO-DEL-PINATAR.jpg
END:VEVENT
BEGIN:VEVENT
DTSTART;TZID=Europe/Madrid:20220306T120000
DTEND;TZID=Europe/Madrid:20220306T140000
DTSTAMP:20260422T192655
CREATED:20220312T092258Z
LAST-MODIFIED:20220312T092258Z
UID:7677-1646568000-1646575200@www.febandasrmurcia.com
SUMMARY:PREGÓN DE LA SEMANA SANTA - Agrupación Musical Juvenil de Cabezo de Torres
DESCRIPTION:
URL:https://www.febandasrmurcia.com/eventos/pregon-de-la-semana-santa-agrupacion-musical-juvenil-de-cabezo-de-torres/
ATTACH;FMTTYPE=image/jpeg:https://www.febandasrmurcia.com/wp-content/uploads/2022/03/PREGON-DE-LA-SEMANA-SANTA-Agrupacion-Musical-Juvenil-de-Cabezo-de-Torres.jpg
END:VEVENT
BEGIN:VEVENT
DTSTART;TZID=Europe/Madrid:20220306T124500
DTEND;TZID=Europe/Madrid:20220306T140000
DTSTAMP:20260422T192655
CREATED:20220221T191325Z
LAST-MODIFIED:20220221T191325Z
UID:7606-1646570700-1646575200@www.febandasrmurcia.com
SUMMARY:VIII CONCIERTO CUARESMA - BANDA JUVENIL AJAM
DESCRIPTION:
URL:https://www.febandasrmurcia.com/eventos/viii-concierto-cuaresma-banda-juvenil-ajam/
ATTACH;FMTTYPE=image/jpeg:https://www.febandasrmurcia.com/wp-content/uploads/2022/02/VIII-CONCIERTO-CUARESMA-BANDA-JUVENIL-AJAM.jpg
END:VEVENT
BEGIN:VEVENT
DTSTART;TZID=Europe/Madrid:20220312T170000
DTEND;TZID=Europe/Madrid:20220312T190000
DTSTAMP:20260422T192655
CREATED:20220221T191908Z
LAST-MODIFIED:20220221T191908Z
UID:7617-1647104400-1647111600@www.febandasrmurcia.com
SUMMARY:CERTAMEN CORNETAS Y TAMBORES SOLIDARIOS - ASOCIACIÓN MUSICAL DE TOTANA
DESCRIPTION:
URL:https://www.febandasrmurcia.com/eventos/certamen-cornetas-y-tambores-solidarios-asociacion-musical-de-totana/
ATTACH;FMTTYPE=image/jpeg:https://www.febandasrmurcia.com/wp-content/uploads/2022/02/CERTAMEN-CORNETAS-Y-TAMBORES-SOLIDARIOS-ASOCIACION-MUSICAL-DE-TOTANA.jpg
END:VEVENT
BEGIN:VEVENT
DTSTART;TZID=Europe/Madrid:20220313T123000
DTEND;TZID=Europe/Madrid:20220313T140000
DTSTAMP:20260422T192655
CREATED:20220304T171926Z
LAST-MODIFIED:20220304T171926Z
UID:7659-1647174600-1647180000@www.febandasrmurcia.com
SUMMARY:CONCIERTO - AGRUPACIÓN MUSICAL LA UNIÓN
DESCRIPTION:
URL:https://www.febandasrmurcia.com/eventos/concierto-agrupacion-musical-la-union/
ATTACH;FMTTYPE=image/jpeg:https://www.febandasrmurcia.com/wp-content/uploads/2022/03/CONCIERTO-AGRUPACION-MUSICAL-LA-UNION.jpg
END:VEVENT
BEGIN:VEVENT
DTSTART;TZID=Europe/Madrid:20220313T123000
DTEND;TZID=Europe/Madrid:20220313T140000
DTSTAMP:20260422T192655
CREATED:20220309T180033Z
LAST-MODIFIED:20220309T180033Z
UID:7669-1647174600-1647180000@www.febandasrmurcia.com
SUMMARY:CONCIERTO XXVII ANIVERARIO DE LA BANDERA - Asociación Musical "Julián Santos"
DESCRIPTION:
URL:https://www.febandasrmurcia.com/eventos/concierto-xxvii-aniverario-de-la-bandera-asociacion-musical-julian-santos/
ATTACH;FMTTYPE=image/jpeg:https://www.febandasrmurcia.com/wp-content/uploads/2022/03/CONCIERTO-XXVII-ANIVERARIO-DE-LA-BANDERA-Asociacion-Musical-Julian-Santos.jpg
END:VEVENT
BEGIN:VEVENT
DTSTART;TZID=Europe/Madrid:20220320T123000
DTEND;TZID=Europe/Madrid:20220320T140000
DTSTAMP:20260422T192655
CREATED:20220312T092458Z
LAST-MODIFIED:20220312T092458Z
UID:7681-1647779400-1647784800@www.febandasrmurcia.com
SUMMARY:CONCIERTO ABARÁN VIVE SU SEMANA SANTA - Agrupación Musical Santa Cecilia de Abarán
DESCRIPTION:
URL:https://www.febandasrmurcia.com/eventos/concierto-abaran-vive-su-semana-santa-agrupacion-musical-santa-cecilia-de-abaran/
ATTACH;FMTTYPE=image/jpeg:https://www.febandasrmurcia.com/wp-content/uploads/2022/03/CONCIERTO-ABARAN-VIVE-SU-SEMANA-SANTA-Agrupacion-Musical-Santa-Cecilia-de-Abaran.jpg
END:VEVENT
BEGIN:VEVENT
DTSTART;TZID=Europe/Madrid:20220320T123000
DTEND;TZID=Europe/Madrid:20220320T140000
DTSTAMP:20260422T192655
CREATED:20220321T091150Z
LAST-MODIFIED:20220321T091150Z
UID:7721-1647779400-1647784800@www.febandasrmurcia.com
SUMMARY:XVII FESTIVAL DE BANDAS DE MÚSICA CIUDAD DE SANTOMERA - Asociación Músico-Cultural "Euterpe" de Santomera
DESCRIPTION:
URL:https://www.febandasrmurcia.com/eventos/xvii-festival-de-bandas-de-musica-ciudad-de-santomera-asociacion-musico-cultural-euterpe-de-santomera/
ATTACH;FMTTYPE=image/jpeg:https://www.febandasrmurcia.com/wp-content/uploads/2022/03/XVII-FESTIVAL-DE-BANDAS-DE-MUSICA-CIUDAD-DE-SANTOMERA-Asociacion-Musico-Cultural-Euterpe-de-Santomera.jpg
END:VEVENT
BEGIN:VEVENT
DTSTART;TZID=Europe/Madrid:20220320T183000
DTEND;TZID=Europe/Madrid:20220320T203000
DTSTAMP:20260422T192655
CREATED:20220221T191636Z
LAST-MODIFIED:20220221T191636Z
UID:7612-1647801000-1647808200@www.febandasrmurcia.com
SUMMARY:CONCIERTO DE SEMANA SANTA CON DANI DE BAZA - SOCIEDAD MUSICAL DE CEHEGÍN
DESCRIPTION:
URL:https://www.febandasrmurcia.com/eventos/concierto-de-semana-santa-con-dani-de-baza-sociedad-musical-de-cehegin/
ATTACH;FMTTYPE=image/jpeg:https://www.febandasrmurcia.com/wp-content/uploads/2022/02/CONCIERTO-DE-SEMANA-SANTA-CON-DANI-DE-BAZA-SOCIEDAD-MUSICAL-DE-CEHEGIN.jpg
END:VEVENT
BEGIN:VEVENT
DTSTART;TZID=Europe/Madrid:20220320T183000
DTEND;TZID=Europe/Madrid:20220320T203000
DTSTAMP:20260422T192655
CREATED:20220312T092547Z
LAST-MODIFIED:20220312T092547Z
UID:7683-1647801000-1647808200@www.febandasrmurcia.com
SUMMARY:CONCIERTO DE SEMANA SANTA CON DANI BAZA - Sociedad Musical de Cehegín
DESCRIPTION:
URL:https://www.febandasrmurcia.com/eventos/concierto-de-semana-santa-con-dani-baza-sociedad-musical-de-cehegin/
ATTACH;FMTTYPE=image/jpeg:https://www.febandasrmurcia.com/wp-content/uploads/2022/03/CONCIERTO-DE-SEMANA-SANTA-CON-DANI-BAZA-Sociedad-Musical-de-Cehegin.jpg
END:VEVENT
BEGIN:VEVENT
DTSTART;TZID=Europe/Madrid:20220325T200000
DTEND;TZID=Europe/Madrid:20220325T213000
DTSTAMP:20260422T192655
CREATED:20220318T080731Z
LAST-MODIFIED:20220318T080731Z
UID:7707-1648238400-1648243800@www.febandasrmurcia.com
SUMMARY:IV FESTIVAL DE BANDAS ESCUELA - Agrupación Musical Muleña
DESCRIPTION:
URL:https://www.febandasrmurcia.com/eventos/iv-festival-de-bandas-escuela-agrupacion-musical-mulena/
ATTACH;FMTTYPE=image/jpeg:https://www.febandasrmurcia.com/wp-content/uploads/2022/03/IV-FESTIVAL-DE-BANDAS-ESCUELA-Agrupacion-Musical-Mulena.jpg
END:VEVENT
BEGIN:VEVENT
DTSTART;TZID=Europe/Madrid:20220325T203000
DTEND;TZID=Europe/Madrid:20220325T220000
DTSTAMP:20260422T192655
CREATED:20220324T173520Z
LAST-MODIFIED:20220324T173520Z
UID:7756-1648240200-1648245600@www.febandasrmurcia.com
SUMMARY:CONCIERTO DE MARCHAS DE PASIÓN - Agrupación Musical de Beniaján
DESCRIPTION:
URL:https://www.febandasrmurcia.com/eventos/concierto-de-marchas-de-pasion-agrupacion-musical-de-beniajan/
ATTACH;FMTTYPE=image/jpeg:https://www.febandasrmurcia.com/wp-content/uploads/2022/03/CONCIERTO-DE-MARCHAS-DE-PASION-Agrupacion-Musical-de-Beniajan.jpg
END:VEVENT
BEGIN:VEVENT
DTSTART;TZID=Europe/Madrid:20220326T120000
DTEND;TZID=Europe/Madrid:20220326T140000
DTSTAMP:20260422T192655
CREATED:20220312T092856Z
LAST-MODIFIED:20220312T092856Z
UID:7689-1648296000-1648303200@www.febandasrmurcia.com
SUMMARY:BANDA JUVENIL EN CONCIERTO - Agrupación Musical Juvenil de Cabezo de Torres
DESCRIPTION:
URL:https://www.febandasrmurcia.com/eventos/banda-juvenil-en-concierto-agrupacion-musical-juvenil-de-cabezo-de-torres/
ATTACH;FMTTYPE=image/jpeg:https://www.febandasrmurcia.com/wp-content/uploads/2022/03/BANDA-JUVENIL-EN-CONCIERTO-Agrupacion-Musicla-Juvenil-de-Cabezo-de-Torres.jpg
END:VEVENT
BEGIN:VEVENT
DTSTART;TZID=Europe/Madrid:20220326T183000
DTEND;TZID=Europe/Madrid:20220326T203000
DTSTAMP:20260422T192655
CREATED:20220328T134837Z
LAST-MODIFIED:20220328T134837Z
UID:7776-1648319400-1648326600@www.febandasrmurcia.com
SUMMARY:XI CONCIERTO DE BANDAS CIUDAD DE JUMILLA - Asociación Musical Julián Santos
DESCRIPTION:
URL:https://www.febandasrmurcia.com/eventos/xi-concierto-de-bandas-ciudad-de-jumilla-asociacion-musical-julian-santos/
ATTACH;FMTTYPE=image/jpeg:https://www.febandasrmurcia.com/wp-content/uploads/2022/03/XI-CONCIERTO-DE-BANDAS-CIUDAD-DE-JUMILLA-Asociacion-Musical-Julian-Santos.jpg
END:VEVENT
BEGIN:VEVENT
DTSTART;TZID=Europe/Madrid:20220326T200000
DTEND;TZID=Europe/Madrid:20220326T220000
DTSTAMP:20260422T192655
CREATED:20220321T091315Z
LAST-MODIFIED:20220321T091315Z
UID:7723-1648324800-1648332000@www.febandasrmurcia.com
SUMMARY:CONCIERTO MARCHAS DE PROCESIÓN - Agrupación Musical "Virgen de la Fuensanta" de Patiño
DESCRIPTION:
URL:https://www.febandasrmurcia.com/eventos/concierto-marchas-de-procesion-agrupacion-musical-virgen-de-la-fuensanta-de-patino/
ATTACH;FMTTYPE=image/jpeg:https://www.febandasrmurcia.com/wp-content/uploads/2022/03/CONCIERTO-MARCHAS-DE-PROCESION-Agrupacion-Musical-Virgen-de-la-Fuensanta-de-Patino.jpg
END:VEVENT
BEGIN:VEVENT
DTSTART;TZID=Europe/Madrid:20220327T120000
DTEND;TZID=Europe/Madrid:20220327T140000
DTSTAMP:20260422T192655
CREATED:20220316T173417Z
LAST-MODIFIED:20220316T173417Z
UID:7696-1648382400-1648389600@www.febandasrmurcia.com
SUMMARY:CONCIERTO SEMANA SANTA 2022  - Asociación Músico-Cultural "Las Musas" de Guadalupe
DESCRIPTION:
URL:https://www.febandasrmurcia.com/eventos/concierto-semana-santa-2022-asociacion-musico-cultural-las-musas-de-guadalupe/
ATTACH;FMTTYPE=image/jpeg:https://www.febandasrmurcia.com/wp-content/uploads/2022/03/CONCIERTO-SEMANA-SANTA-2022-Asociacion-Musico-Cultural-Las-Musas-de-Guadalupe.jpg
END:VEVENT
BEGIN:VEVENT
DTSTART;TZID=Europe/Madrid:20220327T120000
DTEND;TZID=Europe/Madrid:20220327T140000
DTSTAMP:20260422T192655
CREATED:20220321T091631Z
LAST-MODIFIED:20220321T091631Z
UID:7729-1648382400-1648389600@www.febandasrmurcia.com
SUMMARY:CONCIERTO MÚSICA DE PASIÓN -  Asociación Musical Juvenil de Cabezo de Torres
DESCRIPTION:
URL:https://www.febandasrmurcia.com/eventos/concierto-musica-de-pasion-asociacion-musical-juvenil-de-cabezo-de-torres/
ATTACH;FMTTYPE=image/jpeg:https://www.febandasrmurcia.com/wp-content/uploads/2022/03/CONCIERTO-MUSICA-DE-PASION-Asociacion-Musical-Juvenil-de-Cabezo-de-Torres.jpg
END:VEVENT
BEGIN:VEVENT
DTSTART;TZID=Europe/Madrid:20220327T121500
DTEND;TZID=Europe/Madrid:20220327T140000
DTSTAMP:20260422T192655
CREATED:20220324T172950Z
LAST-MODIFIED:20220324T172950Z
UID:7747-1648383300-1648389600@www.febandasrmurcia.com
SUMMARY:X CERTAMEN MÚSICA RELIGIOSA - Unión Musical de Abanilla
DESCRIPTION:
URL:https://www.febandasrmurcia.com/eventos/x-certamen-musica-religiosa-union-musical-de-abanilla/
ATTACH;FMTTYPE=image/jpeg:https://www.febandasrmurcia.com/wp-content/uploads/2022/03/X-CERTAMEN-MUSICA-RELIGIOSA-Union-Musical-de-Abanilla.jpg
END:VEVENT
BEGIN:VEVENT
DTSTART;TZID=Europe/Madrid:20220327T183000
DTEND;TZID=Europe/Madrid:20220327T200000
DTSTAMP:20260422T192655
CREATED:20220328T134525Z
LAST-MODIFIED:20220328T134525Z
UID:7764-1648405800-1648411200@www.febandasrmurcia.com
SUMMARY:CONCIERTO DE MARCHAS DE PROCESIÓN - Agrupación Musical La Unión
DESCRIPTION:
URL:https://www.febandasrmurcia.com/eventos/concierto-de-marchas-de-procesion-agrupacion-musical-la-union/
ATTACH;FMTTYPE=image/jpeg:https://www.febandasrmurcia.com/wp-content/uploads/2022/03/CONCIERTO-DE-MARCHAS-DE-PROCESION-Agrupacion-Musical-La-Union.jpg
END:VEVENT
BEGIN:VEVENT
DTSTART;TZID=Europe/Madrid:20220401T203000
DTEND;TZID=Europe/Madrid:20220401T220000
DTSTAMP:20260422T192655
CREATED:20220328T134952Z
LAST-MODIFIED:20220328T134952Z
UID:7778-1648845000-1648850400@www.febandasrmurcia.com
SUMMARY:XI CONCURSO NACIONAL DE COMPOSICIÓN DE MARCHAS PROCESIONALES VILLA DE SAN PEDRO - Unión Musical de San Pedro del Pinatar
DESCRIPTION:
URL:https://www.febandasrmurcia.com/eventos/xi-concurso-nacional-de-composicion-de-marchas-procesionales-villa-de-san-pedro-union-musical-de-san-pedro-del-pinatar/
ATTACH;FMTTYPE=image/jpeg:https://www.febandasrmurcia.com/wp-content/uploads/2022/03/XI-CONCURSO-NACIONAL-DE-COMPOSICION-DE-MARCHAS-PROCESIONALES-VILLA-DE-SAN-PEDRO-Union-Musical-de-San-Pedro-del-Pinatar.jpg
END:VEVENT
BEGIN:VEVENT
DTSTART;TZID=Europe/Madrid:20220401T203000
DTEND;TZID=Europe/Madrid:20220401T220000
DTSTAMP:20260422T192655
CREATED:20220403T090955Z
LAST-MODIFIED:20220403T090955Z
UID:7830-1648845000-1648850400@www.febandasrmurcia.com
SUMMARY:CONCIERTO SEMANA SANTA 2022 - Banda Sinfónica de San Javier
DESCRIPTION:
URL:https://www.febandasrmurcia.com/eventos/concierto-semana-santa-2022-banda-sinfonica-de-san-javier/
ATTACH;FMTTYPE=image/jpeg:https://www.febandasrmurcia.com/wp-content/uploads/2022/04/CONCIERTO-SEMANA-SANTA-2022-Banda-Sinfonica-de-San-Javier.jpg
END:VEVENT
BEGIN:VEVENT
DTSTART;TZID=Europe/Madrid:20220402T203000
DTEND;TZID=Europe/Madrid:20220402T220000
DTSTAMP:20260422T192655
CREATED:20220322T190038Z
LAST-MODIFIED:20220322T190038Z
UID:7737-1648931400-1648936800@www.febandasrmurcia.com
SUMMARY:CONCIERTO DE SEMANA SANTA - Agrupación Musical Villa de Fuente Álamo
DESCRIPTION:
URL:https://www.febandasrmurcia.com/eventos/concierto-de-semana-santa-agrupacion-musical-villa-de-fuente-alamo/
ATTACH;FMTTYPE=image/jpeg:https://www.febandasrmurcia.com/wp-content/uploads/2022/03/CONCIERTO-DE-SEMANA-SANTA-Agrupacion-Musical-Villa-de-Fuente-Alamo.jpg
END:VEVENT
BEGIN:VEVENT
DTSTART;TZID=Europe/Madrid:20220402T203000
DTEND;TZID=Europe/Madrid:20220402T220000
DTSTAMP:20260422T192655
CREATED:20220331T155732Z
LAST-MODIFIED:20220331T155732Z
UID:7810-1648931400-1648936800@www.febandasrmurcia.com
SUMMARY:CONCIERTO SEMANA SANTA - Agrupación Musical "San Roque" de Fortuna
DESCRIPTION:
URL:https://www.febandasrmurcia.com/eventos/concierto-semana-santa-agrupacion-musical-san-roque-de-fortuna/
ATTACH;FMTTYPE=image/jpeg:https://www.febandasrmurcia.com/wp-content/uploads/2022/03/CONCIERTO-SEMANA-SANTA-Agrupacion-Musical-San-Roque-de-Fortuna.jpg
END:VEVENT
END:VCALENDAR