BEGIN:VCALENDAR
VERSION:2.0
PRODID:-//Federación de Bandas de Música de la Región de Murcia - ECPv5.5.0.1//NONSGML v1.0//EN
CALSCALE:GREGORIAN
METHOD:PUBLISH
X-WR-CALNAME:Federación de Bandas de Música de la Región de Murcia
X-ORIGINAL-URL:https://www.febandasrmurcia.com
X-WR-CALDESC:Eventos para Federación de Bandas de Música de la Región de Murcia
BEGIN:VTIMEZONE
TZID:Europe/Madrid
BEGIN:DAYLIGHT
TZOFFSETFROM:+0100
TZOFFSETTO:+0200
TZNAME:CEST
DTSTART:20220327T010000
END:DAYLIGHT
BEGIN:STANDARD
TZOFFSETFROM:+0200
TZOFFSETTO:+0100
TZNAME:CET
DTSTART:20221030T010000
END:STANDARD
END:VTIMEZONE
BEGIN:VEVENT
DTSTART;TZID=Europe/Madrid:20220401T203000
DTEND;TZID=Europe/Madrid:20220401T220000
DTSTAMP:20260422T173054
CREATED:20220328T134952Z
LAST-MODIFIED:20220328T134952Z
UID:7778-1648845000-1648850400@www.febandasrmurcia.com
SUMMARY:XI CONCURSO NACIONAL DE COMPOSICIÓN DE MARCHAS PROCESIONALES VILLA DE SAN PEDRO - Unión Musical de San Pedro del Pinatar
DESCRIPTION:
URL:https://www.febandasrmurcia.com/eventos/xi-concurso-nacional-de-composicion-de-marchas-procesionales-villa-de-san-pedro-union-musical-de-san-pedro-del-pinatar/
ATTACH;FMTTYPE=image/jpeg:https://www.febandasrmurcia.com/wp-content/uploads/2022/03/XI-CONCURSO-NACIONAL-DE-COMPOSICION-DE-MARCHAS-PROCESIONALES-VILLA-DE-SAN-PEDRO-Union-Musical-de-San-Pedro-del-Pinatar.jpg
END:VEVENT
BEGIN:VEVENT
DTSTART;TZID=Europe/Madrid:20220401T203000
DTEND;TZID=Europe/Madrid:20220401T220000
DTSTAMP:20260422T173054
CREATED:20220403T090955Z
LAST-MODIFIED:20220403T090955Z
UID:7830-1648845000-1648850400@www.febandasrmurcia.com
SUMMARY:CONCIERTO SEMANA SANTA 2022 - Banda Sinfónica de San Javier
DESCRIPTION:
URL:https://www.febandasrmurcia.com/eventos/concierto-semana-santa-2022-banda-sinfonica-de-san-javier/
ATTACH;FMTTYPE=image/jpeg:https://www.febandasrmurcia.com/wp-content/uploads/2022/04/CONCIERTO-SEMANA-SANTA-2022-Banda-Sinfonica-de-San-Javier.jpg
END:VEVENT
BEGIN:VEVENT
DTSTART;TZID=Europe/Madrid:20220402T203000
DTEND;TZID=Europe/Madrid:20220402T220000
DTSTAMP:20260422T173054
CREATED:20220322T190038Z
LAST-MODIFIED:20220322T190038Z
UID:7737-1648931400-1648936800@www.febandasrmurcia.com
SUMMARY:CONCIERTO DE SEMANA SANTA - Agrupación Musical Villa de Fuente Álamo
DESCRIPTION:
URL:https://www.febandasrmurcia.com/eventos/concierto-de-semana-santa-agrupacion-musical-villa-de-fuente-alamo/
ATTACH;FMTTYPE=image/jpeg:https://www.febandasrmurcia.com/wp-content/uploads/2022/03/CONCIERTO-DE-SEMANA-SANTA-Agrupacion-Musical-Villa-de-Fuente-Alamo.jpg
END:VEVENT
BEGIN:VEVENT
DTSTART;TZID=Europe/Madrid:20220402T203000
DTEND;TZID=Europe/Madrid:20220402T220000
DTSTAMP:20260422T173054
CREATED:20220331T155732Z
LAST-MODIFIED:20220331T155732Z
UID:7810-1648931400-1648936800@www.febandasrmurcia.com
SUMMARY:CONCIERTO SEMANA SANTA - Agrupación Musical "San Roque" de Fortuna
DESCRIPTION:
URL:https://www.febandasrmurcia.com/eventos/concierto-semana-santa-agrupacion-musical-san-roque-de-fortuna/
ATTACH;FMTTYPE=image/jpeg:https://www.febandasrmurcia.com/wp-content/uploads/2022/03/CONCIERTO-SEMANA-SANTA-Agrupacion-Musical-San-Roque-de-Fortuna.jpg
END:VEVENT
BEGIN:VEVENT
DTSTART;TZID=Europe/Madrid:20220403T120000
DTEND;TZID=Europe/Madrid:20220403T140000
DTSTAMP:20260422T173054
CREATED:20220324T173125Z
LAST-MODIFIED:20220324T173125Z
UID:7749-1648987200-1648994400@www.febandasrmurcia.com
SUMMARY:CONCIERTO MONOGRÁFICO DE DAVID RIVAS - Unión Musical de Torre Pacheco
DESCRIPTION:
URL:https://www.febandasrmurcia.com/eventos/concierto-monografico-de-david-rivas-union-musical-de-torre-pacheco/
ATTACH;FMTTYPE=image/jpeg:https://www.febandasrmurcia.com/wp-content/uploads/2022/03/CONCIERTO-MONOGRAFICO-DE-DAVID-RIVAS-Union-Musical-de-Torre-Pacheco.jpg
END:VEVENT
BEGIN:VEVENT
DTSTART;TZID=Europe/Madrid:20220403T120000
DTEND;TZID=Europe/Madrid:20220403T140000
DTSTAMP:20260422T173054
CREATED:20220329T184955Z
LAST-MODIFIED:20220329T184955Z
UID:7797-1648987200-1648994400@www.febandasrmurcia.com
SUMMARY:CONCIERTO MÚSICA DE PASIÓN - Agrupación Musical de Beniaján
DESCRIPTION:
URL:https://www.febandasrmurcia.com/eventos/concierto-musica-de-pasion-agrupacion-musical-de-beniajan/
ATTACH;FMTTYPE=image/jpeg:https://www.febandasrmurcia.com/wp-content/uploads/2022/03/CONCIERTO-MUSICA-DE-PASION-Agrupacion-Musical-de-Beniajan.jpg
END:VEVENT
BEGIN:VEVENT
DTSTART;TZID=Europe/Madrid:20220403T120000
DTEND;TZID=Europe/Madrid:20220403T140000
DTSTAMP:20260422T173054
CREATED:20220329T185101Z
LAST-MODIFIED:20220329T185101Z
UID:7799-1648987200-1648994400@www.febandasrmurcia.com
SUMMARY:PREGÓN 2022 SEMANA SANTA - Asociación Jumillana de Amigos de la Música
DESCRIPTION:
URL:https://www.febandasrmurcia.com/eventos/pregon-2022-semana-santa-asociacion-jumillana-de-amigos-de-la-musica/
ATTACH;FMTTYPE=image/jpeg:https://www.febandasrmurcia.com/wp-content/uploads/2022/03/PREGON-2022-SEMANA-SANTA-Asociacion-Jumillana-de-Amigos-de-la-Musica.jpg
END:VEVENT
BEGIN:VEVENT
DTSTART;TZID=Europe/Madrid:20220403T123000
DTEND;TZID=Europe/Madrid:20220403T140000
DTSTAMP:20260422T173054
CREATED:20220328T134415Z
LAST-MODIFIED:20220328T134415Z
UID:7762-1648989000-1648994400@www.febandasrmurcia.com
SUMMARY:CONCIERTO - Agrupación Musical Juvenil de Cabezo de Torres
DESCRIPTION:
URL:https://www.febandasrmurcia.com/eventos/concierto-agrupacion-musical-juvenil-de-cabezo-de-torres/
ATTACH;FMTTYPE=image/jpeg:https://www.febandasrmurcia.com/wp-content/uploads/2022/03/CONCIERTO-Agrupacion-Musical-Juvenil-de-Cabezo-de-Torres.jpg
END:VEVENT
BEGIN:VEVENT
DTSTART;TZID=Europe/Madrid:20220403T123000
DTEND;TZID=Europe/Madrid:20220403T140000
DTSTAMP:20260422T173054
CREATED:20220328T135512Z
LAST-MODIFIED:20220328T140458Z
UID:7787-1648989000-1648994400@www.febandasrmurcia.com
SUMMARY:CONCIERTO SEMANA SANTA 2022 - Ass. Amigos de la Música de Alcantarilla
DESCRIPTION:
URL:https://www.febandasrmurcia.com/eventos/concierto-semana-santa-2022-ass-amigos-de-la-musica-de-alcantarilla/
ATTACH;FMTTYPE=image/jpeg:https://www.febandasrmurcia.com/wp-content/uploads/2022/03/CONCIERTO-SEMANA-SANTA-2022-Ass.-Amigos-de-la-Musica-de-Alcantarilla.jpg
END:VEVENT
BEGIN:VEVENT
DTSTART;TZID=Europe/Madrid:20220403T200000
DTEND;TZID=Europe/Madrid:20220403T220000
DTSTAMP:20260422T173054
CREATED:20220331T155832Z
LAST-MODIFIED:20220331T155832Z
UID:7812-1649016000-1649023200@www.febandasrmurcia.com
SUMMARY:CONCIERTO DE MARCHAS DE PROCESIÓN - Asociación de Amigos de la Música de Lorquí
DESCRIPTION:
URL:https://www.febandasrmurcia.com/eventos/concierto-de-marchas-de-procesion-asociacion-de-amigos-de-la-musica-de-lorqui/
ATTACH;FMTTYPE=image/jpeg:https://www.febandasrmurcia.com/wp-content/uploads/2022/03/CONCIERTO-DE-MARCHAS-DE-PROCESION-Asociacion-de-Amigos-de-la-Musica-de-Lorqui.jpg
END:VEVENT
BEGIN:VEVENT
DTSTART;TZID=Europe/Madrid:20220403T204500
DTEND;TZID=Europe/Madrid:20220403T230000
DTSTAMP:20260422T173054
CREATED:20220331T160119Z
LAST-MODIFIED:20220331T160119Z
UID:7819-1649018700-1649026800@www.febandasrmurcia.com
SUMMARY:CONCIERTO MARCHAS PROCESIONALES - Banda Villa de Bullas
DESCRIPTION:
URL:https://www.febandasrmurcia.com/eventos/concierto-marchas-procesionales-banda-villa-de-bullas/
ATTACH;FMTTYPE=image/jpeg:https://www.febandasrmurcia.com/wp-content/uploads/2022/03/CONCIERTO-MARCHAS-PROCESIONALES-Banda-Villa-de-Bullas.jpg
END:VEVENT
BEGIN:VEVENT
DTSTART;TZID=Europe/Madrid:20220408T203000
DTEND;TZID=Europe/Madrid:20220408T220000
DTSTAMP:20260422T173054
CREATED:20220407T161936Z
LAST-MODIFIED:20220407T161936Z
UID:7845-1649449800-1649455200@www.febandasrmurcia.com
SUMMARY:CONCIERTOS SEMANA SANTA 2022 - Asociación de Amigos de la Música de Yecla
DESCRIPTION:
URL:https://www.febandasrmurcia.com/eventos/conciertos-semana-santa-2022-asociacion-de-amigos-de-la-musica-de-yecla/
ATTACH;FMTTYPE=image/jpeg:https://www.febandasrmurcia.com/wp-content/uploads/2022/04/CONCIERTOS-SEMANA-SANTA-2022-Asociacion-de-Amigos-de-la-Musica-de-Yecla.jpg
END:VEVENT
BEGIN:VEVENT
DTSTART;TZID=Europe/Madrid:20220409T120000
DTEND;TZID=Europe/Madrid:20220409T140000
DTSTAMP:20260422T173054
CREATED:20220316T173532Z
LAST-MODIFIED:20220316T173721Z
UID:7698-1649505600-1649512800@www.febandasrmurcia.com
SUMMARY:EL ALMA DE NUESTRA SEMANA SANTA - Agrupación Musical Sauces de Cartagena
DESCRIPTION:
URL:https://www.febandasrmurcia.com/eventos/el-alma-de-nuestra-semana-santa-agruapcion-musical-sauces-de-cartagena/
ATTACH;FMTTYPE=image/jpeg:https://www.febandasrmurcia.com/wp-content/uploads/2022/03/EL-ALMA-DE-NUESTRA-SEMANA-SANTA-Agruapcion-Musical-Sauces-de-Cartagena.jpg
END:VEVENT
BEGIN:VEVENT
DTSTART;TZID=Europe/Madrid:20220409T190000
DTEND;TZID=Europe/Madrid:20220409T210000
DTSTAMP:20260422T173054
CREATED:20220407T162417Z
LAST-MODIFIED:20220407T162417Z
UID:7855-1649530800-1649538000@www.febandasrmurcia.com
SUMMARY:ACOMPAÑAMIENTO MUSICAL SEMANA SANTA 2022 - Asociación musical Julián Santos
DESCRIPTION:
URL:https://www.febandasrmurcia.com/eventos/acompanamiento-musical-semana-santa-2022-asociacion-musical-julian-santos/
ATTACH;FMTTYPE=image/jpeg:https://www.febandasrmurcia.com/wp-content/uploads/2022/04/ACOMPANAMIENTO-MUSICAL-SEMANA-SANTA-2022-Asociacion-musical-Julian-Santos.jpg
END:VEVENT
BEGIN:VEVENT
DTSTART;TZID=Europe/Madrid:20220409T200000
DTEND;TZID=Europe/Madrid:20220409T213000
DTSTAMP:20260422T173054
CREATED:20220322T190223Z
LAST-MODIFIED:20220322T190330Z
UID:7739-1649534400-1649539800@www.febandasrmurcia.com
SUMMARY:CONCIERTO SEMANA SANTA - Agrupación Musical Santa Cecilia de Archena
DESCRIPTION:
URL:https://www.febandasrmurcia.com/eventos/concierto-semana-santa-agrupacion-musical-santa-cecilia-de-archena/
ATTACH;FMTTYPE=image/jpeg:https://www.febandasrmurcia.com/wp-content/uploads/2022/03/CONCIERTO-SEMANA-SANTA-Agrupacion-Musical-Santa-Cecilia-de-Archena.jpg
END:VEVENT
BEGIN:VEVENT
DTSTART;TZID=Europe/Madrid:20220409T203000
DTEND;TZID=Europe/Madrid:20220409T220000
DTSTAMP:20260422T173054
CREATED:20220407T161841Z
LAST-MODIFIED:20220407T161841Z
UID:7843-1649536200-1649541600@www.febandasrmurcia.com
SUMMARY:CONCIERTO SEMANA SANTA 2022 - Agrupación Musical Ntra. Sra. de los Remedios de Pliego
DESCRIPTION:
URL:https://www.febandasrmurcia.com/eventos/concierto-semana-santa-2022-agrupacion-musical-ntra-sra-de-los-remedios-de-pliego/
ATTACH;FMTTYPE=image/jpeg:https://www.febandasrmurcia.com/wp-content/uploads/2022/04/CONCIERTO-SEMANA-SANTA-2022-Agrupacion-Musical-Ntra.-Sra.-de-los-Remedios-de-Pliego.jpg
END:VEVENT
BEGIN:VEVENT
DTSTART;TZID=Europe/Madrid:20220409T204500
DTEND;TZID=Europe/Madrid:20220409T230000
DTSTAMP:20260422T173054
CREATED:20220407T162309Z
LAST-MODIFIED:20220407T162309Z
UID:7853-1649537100-1649545200@www.febandasrmurcia.com
SUMMARY:CONCIERTO DE SEMANA SANTA - Banda del Ateneo Músico Cultural Maestro José Antonio Ayala
DESCRIPTION:
URL:https://www.febandasrmurcia.com/eventos/concierto-de-semana-santa-banda-del-ateneo-musico-cultural-maestro-jose-antonio-ayala/
ATTACH;FMTTYPE=image/jpeg:https://www.febandasrmurcia.com/wp-content/uploads/2022/04/CONCIERTO-DE-SEMANA-SANTA-Banda-del-Ateneo-Musico-Cultural-Maestro-Jose-Antonio-Ayala.jpg
END:VEVENT
BEGIN:VEVENT
DTSTART;TZID=Europe/Madrid:20220410T120000
DTEND;TZID=Europe/Madrid:20220410T140000
DTSTAMP:20260422T173054
CREATED:20220403T091047Z
LAST-MODIFIED:20220403T091047Z
UID:7832-1649592000-1649599200@www.febandasrmurcia.com
SUMMARY:CONCIERTO SEMANA SANTA - Asociación Banda de Música de Calasparra
DESCRIPTION:
URL:https://www.febandasrmurcia.com/eventos/concierto-semana-santa-asociacion-banda-de-musica-de-calasparra/
ATTACH;FMTTYPE=image/jpeg:https://www.febandasrmurcia.com/wp-content/uploads/2022/04/CONCIERTO-SEMANA-SANTA-Asociacion-Banda-de-Musica-de-Calasparra.jpg
END:VEVENT
BEGIN:VEVENT
DTSTART;TZID=Europe/Madrid:20220411T203000
DTEND;TZID=Europe/Madrid:20220411T220000
DTSTAMP:20260422T173054
CREATED:20220328T140906Z
LAST-MODIFIED:20220328T140906Z
UID:7791-1649709000-1649714400@www.febandasrmurcia.com
SUMMARY:CONCIERTO MARCHAS PROCESIONARIAS - Agrupación Musical de Totana
DESCRIPTION:
URL:https://www.febandasrmurcia.com/eventos/concierto-marchas-procesionarias-agrupacion-musical-de-totana/
ATTACH;FMTTYPE=image/jpeg:https://www.febandasrmurcia.com/wp-content/uploads/2022/03/CONCIERTO-MARCHAS-PROCESIONARIAS-Agrupacion-Musical-de-Totana.jpg
END:VEVENT
BEGIN:VEVENT
DTSTART;TZID=Europe/Madrid:20220411T210000
DTEND;TZID=Europe/Madrid:20220411T230000
DTSTAMP:20260422T173054
CREATED:20220331T160215Z
LAST-MODIFIED:20220331T160215Z
UID:7821-1649710800-1649718000@www.febandasrmurcia.com
SUMMARY:CONCIERTO EXTRAORDINARIO DE SEMANA SANTA 2022 - Asociación Jumillana de Amigos de la Música
DESCRIPTION:
URL:https://www.febandasrmurcia.com/eventos/concierto-extraordinario-de-semana-santa-2022-asociacion-jumillana-de-amigos-de-la-musica/
ATTACH;FMTTYPE=image/jpeg:https://www.febandasrmurcia.com/wp-content/uploads/2022/03/CONCIERTO-EXTRAORDINARIO-DE-SEMANA-SANTA-2022-Asociacion-Jumillana-de-Amigos-de-la-Musica.jpg
END:VEVENT
BEGIN:VEVENT
DTSTART;TZID=Europe/Madrid:20220412T204500
DTEND;TZID=Europe/Madrid:20220412T230000
DTSTAMP:20260422T173054
CREATED:20220407T162716Z
LAST-MODIFIED:20220407T162716Z
UID:7861-1649796300-1649804400@www.febandasrmurcia.com
SUMMARY:CONCIERTO SONES DE PASIÓN - Unión Musical Santa Cruz de Abanilla
DESCRIPTION:
URL:https://www.febandasrmurcia.com/eventos/concierto-sones-de-pasion-union-musical-santa-cruz-de-abanilla/
ATTACH;FMTTYPE=image/jpeg:https://www.febandasrmurcia.com/wp-content/uploads/2022/04/CONCIERTO-SONES-DE-PASION-Union-Musical-Santa-Cruz-de-Abanilla.jpg
END:VEVENT
BEGIN:VEVENT
DTSTART;TZID=Europe/Madrid:20220413T210000
DTEND;TZID=Europe/Madrid:20220413T230000
DTSTAMP:20260422T173054
CREATED:20220407T162025Z
LAST-MODIFIED:20220407T162025Z
UID:7847-1649883600-1649890800@www.febandasrmurcia.com
SUMMARY:CONCIERTOS SEMANA SANTA 2022 - Asociación de Amigos de la Música de Yecla
DESCRIPTION:
URL:https://www.febandasrmurcia.com/eventos/conciertos-semana-santa-2022-asociacion-de-amigos-de-la-musica-de-yecla-2/
ATTACH;FMTTYPE=image/jpeg:https://www.febandasrmurcia.com/wp-content/uploads/2022/04/CONCIERTOS-SEMANA-SANTA-2022-Asociacion-de-Amigos-de-la-Musica-de-Yecla.jpg
END:VEVENT
END:VCALENDAR