BEGIN:VCALENDAR
VERSION:2.0
PRODID:-//Federación de Bandas de Música de la Región de Murcia - ECPv5.5.0.1//NONSGML v1.0//EN
CALSCALE:GREGORIAN
METHOD:PUBLISH
X-WR-CALNAME:Federación de Bandas de Música de la Región de Murcia
X-ORIGINAL-URL:https://www.febandasrmurcia.com
X-WR-CALDESC:Eventos para Federación de Bandas de Música de la Región de Murcia
BEGIN:VTIMEZONE
TZID:Europe/Madrid
BEGIN:DAYLIGHT
TZOFFSETFROM:+0100
TZOFFSETTO:+0200
TZNAME:CEST
DTSTART:20210328T010000
END:DAYLIGHT
BEGIN:STANDARD
TZOFFSETFROM:+0200
TZOFFSETTO:+0100
TZNAME:CET
DTSTART:20211031T010000
END:STANDARD
END:VTIMEZONE
BEGIN:VEVENT
DTSTART;TZID=Europe/Madrid:20210911T203000
DTEND;TZID=Europe/Madrid:20210911T223000
DTSTAMP:20260425T155234
CREATED:20210911T075601Z
LAST-MODIFIED:20210911T075601Z
UID:6925-1631392200-1631399400@www.febandasrmurcia.com
SUMMARY:33º FESTIVAL DE BANDAS DE MÚSICA VILLA DE PLIEGO - Agrupación Musical Ntra. Sra. de los Remedios de Pliego
DESCRIPTION:
URL:https://www.febandasrmurcia.com/eventos/33o-festival-de-bandas-de-musica-villa-de-pliego-agrupacion-musical-ntra-sra-de-los-remedios-de-pliego/
ATTACH;FMTTYPE=image/jpeg:https://www.febandasrmurcia.com/wp-content/uploads/2021/09/33o-FESTIVAL-DE-BANDAS-DE-MUSICA-VILLA-DE-PLIEGO-Agrupacion-Musical-Ntra.-Sra.-de-los-Remedios-de-Pliego.jpg
END:VEVENT
END:VCALENDAR