BEGIN:VCALENDAR
VERSION:2.0
PRODID:-//Federación de Bandas de Música de la Región de Murcia - ECPv5.5.0.1//NONSGML v1.0//EN
CALSCALE:GREGORIAN
METHOD:PUBLISH
X-WR-CALNAME:Federación de Bandas de Música de la Región de Murcia
X-ORIGINAL-URL:https://www.febandasrmurcia.com
X-WR-CALDESC:Eventos para Federación de Bandas de Música de la Región de Murcia
BEGIN:VTIMEZONE
TZID:Europe/Madrid
BEGIN:DAYLIGHT
TZOFFSETFROM:+0100
TZOFFSETTO:+0200
TZNAME:CEST
DTSTART:20210328T010000
END:DAYLIGHT
BEGIN:STANDARD
TZOFFSETFROM:+0200
TZOFFSETTO:+0100
TZNAME:CET
DTSTART:20211031T010000
END:STANDARD
END:VTIMEZONE
BEGIN:VEVENT
DTSTART;TZID=Europe/Madrid:20211125T200000
DTEND;TZID=Europe/Madrid:20211125T213000
DTSTAMP:20260425T124440
CREATED:20211117T175129Z
LAST-MODIFIED:20211117T175129Z
UID:7199-1637870400-1637875800@www.febandasrmurcia.com
SUMMARY:ACTUACIONES EN HONOR A SANTA CECILIA - Agrupación Musical de Totana
DESCRIPTION:
URL:https://www.febandasrmurcia.com/eventos/actuaciones-en-honor-a-santa-cecilia-agrupacion-musical-de-totana/
ATTACH;FMTTYPE=image/jpeg:https://www.febandasrmurcia.com/wp-content/uploads/2021/11/ACTUACIONES-EN-HONOR-A-SANTA-CECILIA-Agrupacion-Musical-de-Totana.jpg
END:VEVENT
END:VCALENDAR