BEGIN:VCALENDAR
VERSION:2.0
PRODID:-//Federación de Bandas de Música de la Región de Murcia - ECPv5.5.0.1//NONSGML v1.0//EN
CALSCALE:GREGORIAN
METHOD:PUBLISH
X-WR-CALNAME:Federación de Bandas de Música de la Región de Murcia
X-ORIGINAL-URL:https://www.febandasrmurcia.com
X-WR-CALDESC:Eventos para Federación de Bandas de Música de la Región de Murcia
BEGIN:VTIMEZONE
TZID:Europe/Madrid
BEGIN:DAYLIGHT
TZOFFSETFROM:+0100
TZOFFSETTO:+0200
TZNAME:CEST
DTSTART:20210328T010000
END:DAYLIGHT
BEGIN:STANDARD
TZOFFSETFROM:+0200
TZOFFSETTO:+0100
TZNAME:CET
DTSTART:20211031T010000
END:STANDARD
END:VTIMEZONE
BEGIN:VEVENT
DTSTART;TZID=Europe/Madrid:20210905T213000
DTEND;TZID=Europe/Madrid:20210905T233000
DTSTAMP:20260425T155456
CREATED:20210901T144846Z
LAST-MODIFIED:20210901T144846Z
UID:6912-1630877400-1630884600@www.febandasrmurcia.com
SUMMARY:ANTOLOGÍA: "DE LA ZARZUELA A LA ÓPERA" - Sociedad Musical de Cehegín
DESCRIPTION:
URL:https://www.febandasrmurcia.com/eventos/antologia-de-la-zarzuela-a-la-opera-sociedad-musical-de-cehegin/
ATTACH;FMTTYPE=image/jpeg:https://www.febandasrmurcia.com/wp-content/uploads/2021/09/ANTOLOGIA-DE-LA-ZARZUELA-A-LA-OPERA-Sociedad-Musical-de-Cehegin.jpg
END:VEVENT
END:VCALENDAR