BEGIN:VCALENDAR
VERSION:2.0
PRODID:-//Federación de Bandas de Música de la Región de Murcia - ECPv5.5.0.1//NONSGML v1.0//EN
CALSCALE:GREGORIAN
METHOD:PUBLISH
X-WR-CALNAME:Federación de Bandas de Música de la Región de Murcia
X-ORIGINAL-URL:https://www.febandasrmurcia.com
X-WR-CALDESC:Eventos para Federación de Bandas de Música de la Región de Murcia
BEGIN:VTIMEZONE
TZID:Europe/Madrid
BEGIN:DAYLIGHT
TZOFFSETFROM:+0100
TZOFFSETTO:+0200
TZNAME:CEST
DTSTART:20220327T010000
END:DAYLIGHT
BEGIN:STANDARD
TZOFFSETFROM:+0200
TZOFFSETTO:+0100
TZNAME:CET
DTSTART:20221030T010000
END:STANDARD
END:VTIMEZONE
BEGIN:VEVENT
DTSTART;TZID=Europe/Madrid:20220320T123000
DTEND;TZID=Europe/Madrid:20220320T140000
DTSTAMP:20260422T210932
CREATED:20220312T092458Z
LAST-MODIFIED:20220312T092458Z
UID:7681-1647779400-1647784800@www.febandasrmurcia.com
SUMMARY:CONCIERTO ABARÁN VIVE SU SEMANA SANTA - Agrupación Musical Santa Cecilia de Abarán
DESCRIPTION:
URL:https://www.febandasrmurcia.com/eventos/concierto-abaran-vive-su-semana-santa-agrupacion-musical-santa-cecilia-de-abaran/
ATTACH;FMTTYPE=image/jpeg:https://www.febandasrmurcia.com/wp-content/uploads/2022/03/CONCIERTO-ABARAN-VIVE-SU-SEMANA-SANTA-Agrupacion-Musical-Santa-Cecilia-de-Abaran.jpg
END:VEVENT
END:VCALENDAR