BEGIN:VCALENDAR
VERSION:2.0
PRODID:-//Federación de Bandas de Música de la Región de Murcia - ECPv5.5.0.1//NONSGML v1.0//EN
CALSCALE:GREGORIAN
METHOD:PUBLISH
X-WR-CALNAME:Federación de Bandas de Música de la Región de Murcia
X-ORIGINAL-URL:https://www.febandasrmurcia.com
X-WR-CALDESC:Eventos para Federación de Bandas de Música de la Región de Murcia
BEGIN:VTIMEZONE
TZID:Europe/Madrid
BEGIN:DAYLIGHT
TZOFFSETFROM:+0100
TZOFFSETTO:+0200
TZNAME:CEST
DTSTART:20210328T010000
END:DAYLIGHT
BEGIN:STANDARD
TZOFFSETFROM:+0200
TZOFFSETTO:+0100
TZNAME:CET
DTSTART:20211031T010000
END:STANDARD
END:VTIMEZONE
BEGIN:VEVENT
DTSTART;TZID=Europe/Madrid:20210818T220000
DTEND;TZID=Europe/Madrid:20210818T233000
DTSTAMP:20260425T175046
CREATED:20210816T162208Z
LAST-MODIFIED:20210816T162208Z
UID:6857-1629324000-1629329400@www.febandasrmurcia.com
SUMMARY:CONCIERTO - Asociación Músico Cultural de Beniel
DESCRIPTION:
URL:https://www.febandasrmurcia.com/eventos/concierto-asociacion-musico-cultural-de-beniel/
ATTACH;FMTTYPE=image/jpeg:https://www.febandasrmurcia.com/wp-content/uploads/2021/08/CONCIERTO-Asociacion-Musico-Cultural-de-Beniel.jpeg
END:VEVENT
END:VCALENDAR