BEGIN:VCALENDAR
VERSION:2.0
PRODID:-//Federación de Bandas de Música de la Región de Murcia - ECPv5.5.0.1//NONSGML v1.0//EN
CALSCALE:GREGORIAN
METHOD:PUBLISH
X-WR-CALNAME:Federación de Bandas de Música de la Región de Murcia
X-ORIGINAL-URL:https://www.febandasrmurcia.com
X-WR-CALDESC:Eventos para Federación de Bandas de Música de la Región de Murcia
BEGIN:VTIMEZONE
TZID:Europe/Madrid
BEGIN:DAYLIGHT
TZOFFSETFROM:+0100
TZOFFSETTO:+0200
TZNAME:CEST
DTSTART:20220327T010000
END:DAYLIGHT
BEGIN:STANDARD
TZOFFSETFROM:+0200
TZOFFSETTO:+0100
TZNAME:CET
DTSTART:20221030T010000
END:STANDARD
END:VTIMEZONE
BEGIN:VEVENT
DTSTART;TZID=Europe/Madrid:20220102T163000
DTEND;TZID=Europe/Madrid:20220102T183000
DTSTAMP:20260423T005205
CREATED:20211230T173223Z
LAST-MODIFIED:20211230T173223Z
UID:7554-1641141000-1641148200@www.febandasrmurcia.com
SUMMARY:CONCIERTO DE AÑO NUEVO - Agrupación Musical Cristo del Valle
DESCRIPTION:
URL:https://www.febandasrmurcia.com/eventos/concierto-de-ano-nuevo-agrupacion-musical-cristo-del-valle/
ATTACH;FMTTYPE=image/png:https://www.febandasrmurcia.com/wp-content/uploads/2021/12/CONCIERTO-DE-ANO-NUEVO-Agrupacion-Musical-Cristo-del-Valle.png
END:VEVENT
END:VCALENDAR