BEGIN:VCALENDAR
VERSION:2.0
PRODID:-//Federación de Bandas de Música de la Región de Murcia - ECPv5.5.0.1//NONSGML v1.0//EN
CALSCALE:GREGORIAN
METHOD:PUBLISH
X-WR-CALNAME:Federación de Bandas de Música de la Región de Murcia
X-ORIGINAL-URL:https://www.febandasrmurcia.com
X-WR-CALDESC:Eventos para Federación de Bandas de Música de la Región de Murcia
BEGIN:VTIMEZONE
TZID:Europe/Madrid
BEGIN:DAYLIGHT
TZOFFSETFROM:+0100
TZOFFSETTO:+0200
TZNAME:CEST
DTSTART:20210328T010000
END:DAYLIGHT
BEGIN:STANDARD
TZOFFSETFROM:+0200
TZOFFSETTO:+0100
TZNAME:CET
DTSTART:20211031T010000
END:STANDARD
END:VTIMEZONE
BEGIN:VEVENT
DTSTART;TZID=Europe/Madrid:20211219T173000
DTEND;TZID=Europe/Madrid:20211219T190000
DTSTAMP:20260423T062110
CREATED:20211214T165855Z
LAST-MODIFIED:20211214T165855Z
UID:7410-1639935000-1639940400@www.febandasrmurcia.com
SUMMARY:CONCIERTO DE LA BANDA JUVENIL Y CORO DE VOCES BLANCAS - Asociación Jumillana de Amigos de la Música
DESCRIPTION:
URL:https://www.febandasrmurcia.com/eventos/concierto-de-la-banda-juvenil-y-coro-de-voces-blancas-asociacion-jumillana-de-amigos-de-la-musica/
ATTACH;FMTTYPE=image/jpeg:https://www.febandasrmurcia.com/wp-content/uploads/2021/12/CONCIERTO-DE-LA-BANDA-JUVENIL-Y-CORO-DE-VOCES-BLANCAS-Asociacion-Jumillana-de-Amigos-de-la-Musica.jpg
END:VEVENT
END:VCALENDAR