BEGIN:VCALENDAR
VERSION:2.0
PRODID:-//Federación de Bandas de Música de la Región de Murcia - ECPv5.5.0.1//NONSGML v1.0//EN
CALSCALE:GREGORIAN
METHOD:PUBLISH
X-WR-CALNAME:Federación de Bandas de Música de la Región de Murcia
X-ORIGINAL-URL:https://www.febandasrmurcia.com
X-WR-CALDESC:Eventos para Federación de Bandas de Música de la Región de Murcia
BEGIN:VTIMEZONE
TZID:Europe/Madrid
BEGIN:DAYLIGHT
TZOFFSETFROM:+0100
TZOFFSETTO:+0200
TZNAME:CEST
DTSTART:20210328T010000
END:DAYLIGHT
BEGIN:STANDARD
TZOFFSETFROM:+0200
TZOFFSETTO:+0100
TZNAME:CET
DTSTART:20211031T010000
END:STANDARD
END:VTIMEZONE
BEGIN:VEVENT
DTSTART;TZID=Europe/Madrid:20211229T194500
DTEND;TZID=Europe/Madrid:20211229T220000
DTSTAMP:20260423T010138
CREATED:20211214T165508Z
LAST-MODIFIED:20211214T165508Z
UID:7400-1640807100-1640815200@www.febandasrmurcia.com
SUMMARY:CONCIERTO DE NAVIDAD - Unión Musical "Santa Cruz" de Abanilla
DESCRIPTION:
URL:https://www.febandasrmurcia.com/eventos/concierto-de-navidad-union-musical-santa-cruz-de-abanilla/
ATTACH;FMTTYPE=image/jpeg:https://www.febandasrmurcia.com/wp-content/uploads/2021/12/NAVIDAD-2021-Union-Musical-Santa-Cruz-de-Abanilla.jpg
END:VEVENT
END:VCALENDAR