BEGIN:VCALENDAR
VERSION:2.0
PRODID:-//Federación de Bandas de Música de la Región de Murcia - ECPv5.5.0.1//NONSGML v1.0//EN
CALSCALE:GREGORIAN
METHOD:PUBLISH
X-WR-CALNAME:Federación de Bandas de Música de la Región de Murcia
X-ORIGINAL-URL:https://www.febandasrmurcia.com
X-WR-CALDESC:Eventos para Federación de Bandas de Música de la Región de Murcia
BEGIN:VTIMEZONE
TZID:Europe/Madrid
BEGIN:DAYLIGHT
TZOFFSETFROM:+0100
TZOFFSETTO:+0200
TZNAME:CEST
DTSTART:20210328T010000
END:DAYLIGHT
BEGIN:STANDARD
TZOFFSETFROM:+0200
TZOFFSETTO:+0100
TZNAME:CET
DTSTART:20211031T010000
END:STANDARD
END:VTIMEZONE
BEGIN:VEVENT
DTSTART;TZID=Europe/Madrid:20211128T120000
DTEND;TZID=Europe/Madrid:20211128T133000
DTSTAMP:20260423T043434
CREATED:20211125T174949Z
LAST-MODIFIED:20211125T174949Z
UID:7298-1638100800-1638106200@www.febandasrmurcia.com
SUMMARY:CONCIERTO DE SANTA CECILIA PREPARATORIO PARA EL 47º CERTAMEN VILA D'ALTEA - Agrupación Musical de Caravaca de la Cruz
DESCRIPTION:
URL:https://www.febandasrmurcia.com/eventos/concierto-de-santa-cecilia-preparatorio-para-el-47o-certamen-vila-daltea-agrupacion-musical-de-caravaca-de-la-cruz/
ATTACH;FMTTYPE=image/jpeg:https://www.febandasrmurcia.com/wp-content/uploads/2021/11/CONCIERTO-DE-SANTA-CECILIA-PREPARATORIO-PARA-EL-47o-CERTAMEN-VILA-DALTEA-Agrupacion-Musical-de-Caravaca-de-la-Cruz.jpg
END:VEVENT
END:VCALENDAR