BEGIN:VCALENDAR
VERSION:2.0
PRODID:-//Federación de Bandas de Música de la Región de Murcia - ECPv5.5.0.1//NONSGML v1.0//EN
CALSCALE:GREGORIAN
METHOD:PUBLISH
X-WR-CALNAME:Federación de Bandas de Música de la Región de Murcia
X-ORIGINAL-URL:https://www.febandasrmurcia.com
X-WR-CALDESC:Eventos para Federación de Bandas de Música de la Región de Murcia
BEGIN:VTIMEZONE
TZID:Europe/Madrid
BEGIN:DAYLIGHT
TZOFFSETFROM:+0100
TZOFFSETTO:+0200
TZNAME:CEST
DTSTART:20220327T010000
END:DAYLIGHT
BEGIN:STANDARD
TZOFFSETFROM:+0200
TZOFFSETTO:+0100
TZNAME:CET
DTSTART:20221030T010000
END:STANDARD
END:VTIMEZONE
BEGIN:VEVENT
DTSTART;TZID=Europe/Madrid:20220306T120000
DTEND;TZID=Europe/Madrid:20220306T140000
DTSTAMP:20260422T230158
CREATED:20220215T152232Z
LAST-MODIFIED:20220215T152232Z
UID:7600-1646568000-1646575200@www.febandasrmurcia.com
SUMMARY:CONCIERTO DISNEY - SOCIEDAD MUSICAL DE CEHEGÍN
DESCRIPTION:
URL:https://www.febandasrmurcia.com/eventos/concierto-disney-sociedad-musical-de-cehegin-2/
ATTACH;FMTTYPE=image/jpeg:https://www.febandasrmurcia.com/wp-content/uploads/2022/02/CONCIERTO-DISNEY-SOCIEDAD-MUSICAL-DE-CEHEGIN.jpg
END:VEVENT
END:VCALENDAR