BEGIN:VCALENDAR
VERSION:2.0
PRODID:-//Federación de Bandas de Música de la Región de Murcia - ECPv5.5.0.1//NONSGML v1.0//EN
CALSCALE:GREGORIAN
METHOD:PUBLISH
X-WR-CALNAME:Federación de Bandas de Música de la Región de Murcia
X-ORIGINAL-URL:https://www.febandasrmurcia.com
X-WR-CALDESC:Eventos para Federación de Bandas de Música de la Región de Murcia
BEGIN:VTIMEZONE
TZID:Europe/Madrid
BEGIN:DAYLIGHT
TZOFFSETFROM:+0100
TZOFFSETTO:+0200
TZNAME:CEST
DTSTART:20210328T010000
END:DAYLIGHT
BEGIN:STANDARD
TZOFFSETFROM:+0200
TZOFFSETTO:+0100
TZNAME:CET
DTSTART:20211031T010000
END:STANDARD
END:VTIMEZONE
BEGIN:VEVENT
DTSTART;TZID=Europe/Madrid:20210606T203000
DTEND;TZID=Europe/Madrid:20210606T213000
DTSTAMP:20260426T060852
CREATED:20210601T150233Z
LAST-MODIFIED:20210601T150233Z
UID:6594-1623011400-1623015000@www.febandasrmurcia.com
SUMMARY:CONCIERTO en honor al CORPUS CHRISTI y a la VIRGEN DE LA SALUD
DESCRIPTION:
URL:https://www.febandasrmurcia.com/eventos/concierto-en-honor-al-corpus-christi-y-a-la-virgen-de-la-salud/
ATTACH;FMTTYPE=image/jpeg:https://www.febandasrmurcia.com/wp-content/uploads/2021/06/CONCIERTO-CORPUS-CHRISTI-Y-VIRGEN-DE-LA-SALUD.jpg
END:VEVENT
END:VCALENDAR