BEGIN:VCALENDAR
VERSION:2.0
PRODID:-//Federación de Bandas de Música de la Región de Murcia - ECPv5.5.0.1//NONSGML v1.0//EN
CALSCALE:GREGORIAN
METHOD:PUBLISH
X-WR-CALNAME:Federación de Bandas de Música de la Región de Murcia
X-ORIGINAL-URL:https://www.febandasrmurcia.com
X-WR-CALDESC:Eventos para Federación de Bandas de Música de la Región de Murcia
BEGIN:VTIMEZONE
TZID:Europe/Madrid
BEGIN:DAYLIGHT
TZOFFSETFROM:+0100
TZOFFSETTO:+0200
TZNAME:CEST
DTSTART:20220327T010000
END:DAYLIGHT
BEGIN:STANDARD
TZOFFSETFROM:+0200
TZOFFSETTO:+0100
TZNAME:CET
DTSTART:20221030T010000
END:STANDARD
END:VTIMEZONE
BEGIN:VEVENT
DTSTART;TZID=Europe/Madrid:20220327T120000
DTEND;TZID=Europe/Madrid:20220327T140000
DTSTAMP:20260422T230511
CREATED:20220321T091631Z
LAST-MODIFIED:20220321T091631Z
UID:7729-1648382400-1648389600@www.febandasrmurcia.com
SUMMARY:CONCIERTO MÚSICA DE PASIÓN -  Asociación Musical Juvenil de Cabezo de Torres
DESCRIPTION:
URL:https://www.febandasrmurcia.com/eventos/concierto-musica-de-pasion-asociacion-musical-juvenil-de-cabezo-de-torres/
ATTACH;FMTTYPE=image/jpeg:https://www.febandasrmurcia.com/wp-content/uploads/2022/03/CONCIERTO-MUSICA-DE-PASION-Asociacion-Musical-Juvenil-de-Cabezo-de-Torres.jpg
END:VEVENT
END:VCALENDAR