BEGIN:VCALENDAR
VERSION:2.0
PRODID:-//Federación de Bandas de Música de la Región de Murcia - ECPv5.5.0.1//NONSGML v1.0//EN
CALSCALE:GREGORIAN
METHOD:PUBLISH
X-WR-CALNAME:Federación de Bandas de Música de la Región de Murcia
X-ORIGINAL-URL:https://www.febandasrmurcia.com
X-WR-CALDESC:Eventos para Federación de Bandas de Música de la Región de Murcia
BEGIN:VTIMEZONE
TZID:Europe/Madrid
BEGIN:DAYLIGHT
TZOFFSETFROM:+0100
TZOFFSETTO:+0200
TZNAME:CEST
DTSTART:20210328T010000
END:DAYLIGHT
BEGIN:STANDARD
TZOFFSETFROM:+0200
TZOFFSETTO:+0100
TZNAME:CET
DTSTART:20211031T010000
END:STANDARD
END:VTIMEZONE
BEGIN:VEVENT
DTSTART;TZID=Europe/Madrid:20210915T203000
DTEND;TZID=Europe/Madrid:20210915T233000
DTSTAMP:20260425T155757
CREATED:20210914T060137Z
LAST-MODIFIED:20210913T192021Z
UID:6931-1631737800-1631748600@www.febandasrmurcia.com
SUMMARY:CONCIERTO PASODOBLES 1ª PARTE  - Agrupación Musical La Unión
DESCRIPTION:
URL:https://www.febandasrmurcia.com/eventos/concierto-pasodobles-1a-parte-agrupacion-musical-la-union/
ATTACH;FMTTYPE=image/jpeg:https://www.febandasrmurcia.com/wp-content/uploads/2021/09/CONCIERTO-PASODOBLES-1a-PARTE-Agrupacion-Musical-La-Union.jpg
END:VEVENT
END:VCALENDAR