BEGIN:VCALENDAR
VERSION:2.0
PRODID:-//Federación de Bandas de Música de la Región de Murcia - ECPv5.5.0.1//NONSGML v1.0//EN
CALSCALE:GREGORIAN
METHOD:PUBLISH
X-WR-CALNAME:Federación de Bandas de Música de la Región de Murcia
X-ORIGINAL-URL:https://www.febandasrmurcia.com
X-WR-CALDESC:Eventos para Federación de Bandas de Música de la Región de Murcia
BEGIN:VTIMEZONE
TZID:Europe/Madrid
BEGIN:DAYLIGHT
TZOFFSETFROM:+0100
TZOFFSETTO:+0200
TZNAME:CEST
DTSTART:20210328T010000
END:DAYLIGHT
BEGIN:STANDARD
TZOFFSETFROM:+0200
TZOFFSETTO:+0100
TZNAME:CET
DTSTART:20211031T010000
END:STANDARD
END:VTIMEZONE
BEGIN:VEVENT
DTSTART;TZID=Europe/Madrid:20210811T220000
DTEND;TZID=Europe/Madrid:20210811T233000
DTSTAMP:20260425T173118
CREATED:20210806T074605Z
LAST-MODIFIED:20210806T074605Z
UID:6818-1628719200-1628724600@www.febandasrmurcia.com
SUMMARY:CONCIERTOS DE VERANO - Agrupación Musical de Caravaca
DESCRIPTION:
URL:https://www.febandasrmurcia.com/eventos/conciertos-de-verano-agrupacion-musical-de-caravaca-2/
ATTACH;FMTTYPE=image/jpeg:https://www.febandasrmurcia.com/wp-content/uploads/2021/08/CONCIERTOS-DE-VERANO-Agrupacion-Musical-de-Caravaca.jpg
END:VEVENT
END:VCALENDAR