BEGIN:VCALENDAR
VERSION:2.0
PRODID:-//Federación de Bandas de Música de la Región de Murcia - ECPv5.5.0.1//NONSGML v1.0//EN
CALSCALE:GREGORIAN
METHOD:PUBLISH
X-WR-CALNAME:Federación de Bandas de Música de la Región de Murcia
X-ORIGINAL-URL:https://www.febandasrmurcia.com
X-WR-CALDESC:Eventos para Federación de Bandas de Música de la Región de Murcia
BEGIN:VTIMEZONE
TZID:Europe/Madrid
BEGIN:DAYLIGHT
TZOFFSETFROM:+0100
TZOFFSETTO:+0200
TZNAME:CEST
DTSTART:20210328T010000
END:DAYLIGHT
BEGIN:STANDARD
TZOFFSETFROM:+0200
TZOFFSETTO:+0100
TZNAME:CET
DTSTART:20211031T010000
END:STANDARD
END:VTIMEZONE
BEGIN:VEVENT
DTSTART;TZID=Europe/Madrid:20211113T090000
DTEND;TZID=Europe/Madrid:20211113T190000
DTSTAMP:20260423T042459
CREATED:20211109T173839Z
LAST-MODIFIED:20211109T173839Z
UID:7080-1636794000-1636830000@www.febandasrmurcia.com
SUMMARY:CURSO-CLASES MAGISTRALES DE FLAUTA TRAVESERA CON JAMES STRAUSS - Agrupación Musical de Totana
DESCRIPTION:
URL:https://www.febandasrmurcia.com/eventos/curso-clases-magistrales-de-flauta-travesera-con-james-strauss-agrupacion-musical-de-totana-2/
ATTACH;FMTTYPE=image/jpeg:https://www.febandasrmurcia.com/wp-content/uploads/2021/11/CURSO-CLASES-MAGISTRALES-DE-FLAUTA-TRAVESERA-CON-JAMES-STRAUSS-Agrupacion-Musical-de-Totana.jpg
END:VEVENT
END:VCALENDAR