BEGIN:VCALENDAR
VERSION:2.0
PRODID:-//Federación de Bandas de Música de la Región de Murcia - ECPv5.5.0.1//NONSGML v1.0//EN
CALSCALE:GREGORIAN
METHOD:PUBLISH
X-WR-CALNAME:Federación de Bandas de Música de la Región de Murcia
X-ORIGINAL-URL:https://www.febandasrmurcia.com
X-WR-CALDESC:Eventos para Federación de Bandas de Música de la Región de Murcia
BEGIN:VTIMEZONE
TZID:Europe/Madrid
BEGIN:DAYLIGHT
TZOFFSETFROM:+0100
TZOFFSETTO:+0200
TZNAME:CEST
DTSTART:20210328T010000
END:DAYLIGHT
BEGIN:STANDARD
TZOFFSETFROM:+0200
TZOFFSETTO:+0100
TZNAME:CET
DTSTART:20211031T010000
END:STANDARD
END:VTIMEZONE
BEGIN:VEVENT
DTSTART;TZID=Europe/Madrid:20211204T200000
DTEND;TZID=Europe/Madrid:20211204T220000
DTSTAMP:20260423T042103
CREATED:20211129T171632Z
LAST-MODIFIED:20211202T111541Z
UID:7319-1638648000-1638655200@www.febandasrmurcia.com
SUMMARY:FESTIVAL NACIONAL SOLIDARIO - Banda Municipal de Madridejos de Toledo y Banda Ntra. Sra. de la Soledad - Molinos Marfagones de Cartagena
DESCRIPTION:
URL:https://www.febandasrmurcia.com/eventos/festival-nacional-solidario-banda-municipal-de-madridejos-de-toledo-y-banda-ntra-sra-de-la-soledad-molinos-marfagones-de-cartagena/
ATTACH;FMTTYPE=image/jpeg:https://www.febandasrmurcia.com/wp-content/uploads/2021/11/CONCIERTO-SOLIDARIO-FESTIVAL-NACIONAL-Banda-Municipal-de-Madridejos-y-Agrupacion-Musical-de-Molinos-Marfagones-1.jpg
END:VEVENT
END:VCALENDAR