BEGIN:VCALENDAR
VERSION:2.0
PRODID:-//Federación de Bandas de Música de la Región de Murcia - ECPv5.5.0.1//NONSGML v1.0//EN
CALSCALE:GREGORIAN
METHOD:PUBLISH
X-WR-CALNAME:Federación de Bandas de Música de la Región de Murcia
X-ORIGINAL-URL:https://www.febandasrmurcia.com
X-WR-CALDESC:Eventos para Federación de Bandas de Música de la Región de Murcia
BEGIN:VTIMEZONE
TZID:Europe/Madrid
BEGIN:DAYLIGHT
TZOFFSETFROM:+0100
TZOFFSETTO:+0200
TZNAME:CEST
DTSTART:20210328T010000
END:DAYLIGHT
BEGIN:STANDARD
TZOFFSETFROM:+0200
TZOFFSETTO:+0100
TZNAME:CET
DTSTART:20211031T010000
END:STANDARD
END:VTIMEZONE
BEGIN:VEVENT
DTSTART;TZID=Europe/Madrid:20211120T190000
DTEND;TZID=Europe/Madrid:20211120T210000
DTSTAMP:20260425T123021
CREATED:20211114T190614Z
LAST-MODIFIED:20211114T190614Z
UID:7122-1637434800-1637442000@www.febandasrmurcia.com
SUMMARY:GALA SANTA CECILIA 2021- Agrupación Musical de Alhama de Murcia
DESCRIPTION:
URL:https://www.febandasrmurcia.com/eventos/gala-santa-cecilia-2021-agrupacion-musical-de-alhama-de-murcia/
ATTACH;FMTTYPE=image/jpeg:https://www.febandasrmurcia.com/wp-content/uploads/2021/11/GALA-SANTA-CECILIA-2021-Agrupacion-Musical-de-Alhama-de-Murcia.jpg
END:VEVENT
END:VCALENDAR