BEGIN:VCALENDAR
VERSION:2.0
PRODID:-//Federación de Bandas de Música de la Región de Murcia - ECPv5.5.0.1//NONSGML v1.0//EN
CALSCALE:GREGORIAN
METHOD:PUBLISH
X-WR-CALNAME:Federación de Bandas de Música de la Región de Murcia
X-ORIGINAL-URL:https://www.febandasrmurcia.com
X-WR-CALDESC:Eventos para Federación de Bandas de Música de la Región de Murcia
BEGIN:VTIMEZONE
TZID:Europe/Madrid
BEGIN:DAYLIGHT
TZOFFSETFROM:+0100
TZOFFSETTO:+0200
TZNAME:CEST
DTSTART:20210328T010000
END:DAYLIGHT
BEGIN:STANDARD
TZOFFSETFROM:+0200
TZOFFSETTO:+0100
TZNAME:CET
DTSTART:20211031T010000
END:STANDARD
END:VTIMEZONE
BEGIN:VEVENT
DTSTART;TZID=Europe/Madrid:20210828T213000
DTEND;TZID=Europe/Madrid:20210828T233000
DTSTAMP:20260425T175419
CREATED:20210831T082637Z
LAST-MODIFIED:20210831T082637Z
UID:6900-1630186200-1630193400@www.febandasrmurcia.com
SUMMARY:GRAN CONCIERTO PREGÓN DE LAS FIESTAS - Asociación Banda de Música de Calasparra
DESCRIPTION:
URL:https://www.febandasrmurcia.com/eventos/gran-concierto-pregon-de-las-fiestas-asociacion-banda-de-musica-de-calasparra/
ATTACH;FMTTYPE=image/jpeg:https://www.febandasrmurcia.com/wp-content/uploads/2021/08/GRAN-CONCIERTO-PREGON-DE-LAS-FIESTAS-Asociacion-Banda-de-Musica-de-Calasparra.jpg
END:VEVENT
END:VCALENDAR