BEGIN:VCALENDAR
VERSION:2.0
PRODID:-//Federación de Bandas de Música de la Región de Murcia - ECPv5.5.0.1//NONSGML v1.0//EN
CALSCALE:GREGORIAN
METHOD:PUBLISH
X-WR-CALNAME:Federación de Bandas de Música de la Región de Murcia
X-ORIGINAL-URL:https://www.febandasrmurcia.com
X-WR-CALDESC:Eventos para Federación de Bandas de Música de la Región de Murcia
BEGIN:VTIMEZONE
TZID:Europe/Madrid
BEGIN:DAYLIGHT
TZOFFSETFROM:+0100
TZOFFSETTO:+0200
TZNAME:CEST
DTSTART:20210328T010000
END:DAYLIGHT
BEGIN:STANDARD
TZOFFSETFROM:+0200
TZOFFSETTO:+0100
TZNAME:CET
DTSTART:20211031T010000
END:STANDARD
END:VTIMEZONE
BEGIN:VEVENT
DTSTART;TZID=Europe/Madrid:20211204T120000
DTEND;TZID=Europe/Madrid:20211204T140000
DTSTAMP:20260423T041806
CREATED:20211129T170955Z
LAST-MODIFIED:20211129T170955Z
UID:7309-1638619200-1638626400@www.febandasrmurcia.com
SUMMARY:HOMENAJE A FEDERICO GARCÍA LORCA SANTA CECILIA 2021 - Agrupación Musical de Beniaján
DESCRIPTION:
URL:https://www.febandasrmurcia.com/eventos/homenaje-a-federico-garcia-lorca-santa-cecilia-2021-agrupacion-musical-de-beniajan/
ATTACH;FMTTYPE=image/jpeg:https://www.febandasrmurcia.com/wp-content/uploads/2021/11/HOMENAJE-A-FEDERICO-GARCIA-LORCA-SANTA-CECILIA-2021-Agrupacion-Musical-de-Beniajan.jpg
END:VEVENT
END:VCALENDAR