BEGIN:VCALENDAR
VERSION:2.0
PRODID:-//Federación de Bandas de Música de la Región de Murcia - ECPv5.5.0.1//NONSGML v1.0//EN
CALSCALE:GREGORIAN
METHOD:PUBLISH
X-WR-CALNAME:Federación de Bandas de Música de la Región de Murcia
X-ORIGINAL-URL:https://www.febandasrmurcia.com
X-WR-CALDESC:Eventos para Federación de Bandas de Música de la Región de Murcia
BEGIN:VTIMEZONE
TZID:Europe/Madrid
BEGIN:DAYLIGHT
TZOFFSETFROM:+0100
TZOFFSETTO:+0200
TZNAME:CEST
DTSTART:20220327T010000
END:DAYLIGHT
BEGIN:STANDARD
TZOFFSETFROM:+0200
TZOFFSETTO:+0100
TZNAME:CET
DTSTART:20221030T010000
END:STANDARD
END:VTIMEZONE
BEGIN:VEVENT
DTSTART;TZID=Europe/Madrid:20220507T170000
DTEND;TZID=Europe/Madrid:20220507T210000
DTSTAMP:20260421T154203
CREATED:20220121T070644Z
LAST-MODIFIED:20220121T070718Z
UID:7579-1651942800-1651957200@www.febandasrmurcia.com
SUMMARY:IX CERTAMEN REGIONAL DE BANDAS DE MÚSICA "VILLA DE LORQUÍ"
DESCRIPTION:
URL:https://www.febandasrmurcia.com/eventos/ix-certamen-regional-de-bandas-de-musica-villa-de-lorqui/
ATTACH;FMTTYPE=image/jpeg:https://www.febandasrmurcia.com/wp-content/uploads/2022/01/SAVE_20220121_074958.jpg
END:VEVENT
END:VCALENDAR