BEGIN:VCALENDAR
VERSION:2.0
PRODID:-//Federación de Bandas de Música de la Región de Murcia - ECPv5.5.0.1//NONSGML v1.0//EN
CALSCALE:GREGORIAN
METHOD:PUBLISH
X-WR-CALNAME:Federación de Bandas de Música de la Región de Murcia
X-ORIGINAL-URL:https://www.febandasrmurcia.com
X-WR-CALDESC:Eventos para Federación de Bandas de Música de la Región de Murcia
BEGIN:VTIMEZONE
TZID:Europe/Madrid
BEGIN:DAYLIGHT
TZOFFSETFROM:+0100
TZOFFSETTO:+0200
TZNAME:CEST
DTSTART:20210328T010000
END:DAYLIGHT
BEGIN:STANDARD
TZOFFSETFROM:+0200
TZOFFSETTO:+0100
TZNAME:CET
DTSTART:20211031T010000
END:STANDARD
END:VTIMEZONE
BEGIN:VEVENT
DTSTART;TZID=Europe/Madrid:20211120T183000
DTEND;TZID=Europe/Madrid:20211120T203000
DTSTAMP:20260423T060917
CREATED:20211119T180855Z
LAST-MODIFIED:20211119T180855Z
UID:7234-1637433000-1637440200@www.febandasrmurcia.com
SUMMARY:MUSIC ON THE STREET HOMENAJE A JUAN ASENSIO - Unión Musical San Pedro del Pinatar
DESCRIPTION:
URL:https://www.febandasrmurcia.com/eventos/music-on-the-street-homenaje-a-juan-asensio-union-musical-san-pedro-del-pinatar/
ATTACH;FMTTYPE=image/jpeg:https://www.febandasrmurcia.com/wp-content/uploads/2021/11/MUSIC-ON-THE-STREET-HOMENAJE-A-JUAN-ASENSIO-Union-Musical-San-Pedro-del-Pinatar.jpg
END:VEVENT
END:VCALENDAR