BEGIN:VCALENDAR
VERSION:2.0
PRODID:-//Federación de Bandas de Música de la Región de Murcia - ECPv5.5.0.1//NONSGML v1.0//EN
CALSCALE:GREGORIAN
METHOD:PUBLISH
X-WR-CALNAME:Federación de Bandas de Música de la Región de Murcia
X-ORIGINAL-URL:https://www.febandasrmurcia.com
X-WR-CALDESC:Eventos para Federación de Bandas de Música de la Región de Murcia
BEGIN:VTIMEZONE
TZID:Europe/Madrid
BEGIN:DAYLIGHT
TZOFFSETFROM:+0100
TZOFFSETTO:+0200
TZNAME:CEST
DTSTART:20210328T010000
END:DAYLIGHT
BEGIN:STANDARD
TZOFFSETFROM:+0200
TZOFFSETTO:+0100
TZNAME:CET
DTSTART:20211031T010000
END:STANDARD
END:VTIMEZONE
BEGIN:VEVENT
DTSTART;TZID=Europe/Madrid:20211121T120000
DTEND;TZID=Europe/Madrid:20211121T140000
DTSTAMP:20260423T042615
CREATED:20211118T194043Z
LAST-MODIFIED:20211118T194043Z
UID:7211-1637496000-1637503200@www.febandasrmurcia.com
SUMMARY:"PERFORMANCE" CONCIERTO EN HONOR A SANTA CECILIA - Asociación Jumillana de Amigos de la Música
DESCRIPTION:
URL:https://www.febandasrmurcia.com/eventos/performance-concierto-en-honor-a-santa-cecilia-asociacion-jumillana-de-amigos-de-la-musica-2/
ATTACH;FMTTYPE=image/jpeg:https://www.febandasrmurcia.com/wp-content/uploads/2021/11/PERFORMANCE-CONCIERTO-EN-HONOR-A-SANTA-CECILIA-Asociacion-Jumillana-de-Amigos-de-la-Musica.jpg
END:VEVENT
END:VCALENDAR