BEGIN:VCALENDAR
VERSION:2.0
PRODID:-//Federación de Bandas de Música de la Región de Murcia - ECPv5.5.0.1//NONSGML v1.0//EN
CALSCALE:GREGORIAN
METHOD:PUBLISH
X-WR-CALNAME:Federación de Bandas de Música de la Región de Murcia
X-ORIGINAL-URL:https://www.febandasrmurcia.com
X-WR-CALDESC:Eventos para Federación de Bandas de Música de la Región de Murcia
BEGIN:VTIMEZONE
TZID:Europe/Madrid
BEGIN:DAYLIGHT
TZOFFSETFROM:+0100
TZOFFSETTO:+0200
TZNAME:CEST
DTSTART:20210328T010000
END:DAYLIGHT
BEGIN:STANDARD
TZOFFSETFROM:+0200
TZOFFSETTO:+0100
TZNAME:CET
DTSTART:20211031T010000
END:STANDARD
END:VTIMEZONE
BEGIN:VEVENT
DTSTART;TZID=Europe/Madrid:20211113T200000
DTEND;TZID=Europe/Madrid:20211113T213000
DTSTAMP:20260423T061315
CREATED:20211109T173525Z
LAST-MODIFIED:20211109T173525Z
UID:7072-1636833600-1636839000@www.febandasrmurcia.com
SUMMARY:PRESENTACIÓN 40º ANIVERSARIO - Agrupación Musical Ntra. Sra. de los Remedios de Pliego
DESCRIPTION:
URL:https://www.febandasrmurcia.com/eventos/presentacion-40o-aniversario-agrupacion-musical-ntra-sra-de-los-remedios-de-pliego/
ATTACH;FMTTYPE=image/jpeg:https://www.febandasrmurcia.com/wp-content/uploads/2021/11/PRESENTACION-40o-ANIVERSARIO-Agrupacion-Musical-Ntra.-Sra.-de-los-Remedios.jpg
END:VEVENT
END:VCALENDAR