BEGIN:VCALENDAR
VERSION:2.0
PRODID:-//Federación de Bandas de Música de la Región de Murcia - ECPv5.5.0.1//NONSGML v1.0//EN
CALSCALE:GREGORIAN
METHOD:PUBLISH
X-WR-CALNAME:Federación de Bandas de Música de la Región de Murcia
X-ORIGINAL-URL:https://www.febandasrmurcia.com
X-WR-CALDESC:Eventos para Federación de Bandas de Música de la Región de Murcia
BEGIN:VTIMEZONE
TZID:Europe/Madrid
BEGIN:DAYLIGHT
TZOFFSETFROM:+0100
TZOFFSETTO:+0200
TZNAME:CEST
DTSTART:20210328T010000
END:DAYLIGHT
BEGIN:STANDARD
TZOFFSETFROM:+0200
TZOFFSETTO:+0100
TZNAME:CET
DTSTART:20211031T010000
END:STANDARD
END:VTIMEZONE
BEGIN:VEVENT
DTSTART;TZID=Europe/Madrid:20210630T193000
DTEND;TZID=Europe/Madrid:20210630T213000
DTSTAMP:20260425T193156
CREATED:20210713T091332Z
LAST-MODIFIED:20210713T091332Z
UID:6703-1625081400-1625088600@www.febandasrmurcia.com
SUMMARY:SEMANA DE LA MÚSICA - Asociación Musical "Maestro Eugenio Calderón" de Mazarrón
DESCRIPTION:
URL:https://www.febandasrmurcia.com/eventos/semana-de-la-musica-asociacion-musical-maestro-eugenio-calderon-de-mazarron-3/
ATTACH;FMTTYPE=image/jpeg:https://www.febandasrmurcia.com/wp-content/uploads/2021/07/SEMANA-DE-LA-MUSICA-Asoc.-Musical-Maestro-Eugenio-Calderon.jpeg
END:VEVENT
END:VCALENDAR