BEGIN:VCALENDAR
VERSION:2.0
PRODID:-//Federación de Bandas de Música de la Región de Murcia - ECPv5.5.0.1//NONSGML v1.0//EN
CALSCALE:GREGORIAN
METHOD:PUBLISH
X-WR-CALNAME:Federación de Bandas de Música de la Región de Murcia
X-ORIGINAL-URL:https://www.febandasrmurcia.com
X-WR-CALDESC:Eventos para Federación de Bandas de Música de la Región de Murcia
BEGIN:VTIMEZONE
TZID:Europe/Madrid
BEGIN:DAYLIGHT
TZOFFSETFROM:+0100
TZOFFSETTO:+0200
TZNAME:CEST
DTSTART:20210328T010000
END:DAYLIGHT
BEGIN:STANDARD
TZOFFSETFROM:+0200
TZOFFSETTO:+0100
TZNAME:CET
DTSTART:20211031T010000
END:STANDARD
END:VTIMEZONE
BEGIN:VEVENT
DTSTART;TZID=Europe/Madrid:20210822T220000
DTEND;TZID=Europe/Madrid:20210822T233000
DTSTAMP:20260425T175256
CREATED:20210820T092126Z
LAST-MODIFIED:20210820T092126Z
UID:6863-1629669600-1629675000@www.febandasrmurcia.com
SUMMARY:V CONCURSO NACIONAL DE DIRECCIÓN MAESTRO GALINDO - Asociación Banda de Música de Calasparra
DESCRIPTION:
URL:https://www.febandasrmurcia.com/eventos/v-concurso-nacional-de-direccion-maestro-galindo-asociacion-banda-de-musica-de-calasparra/
ATTACH;FMTTYPE=image/jpeg:https://www.febandasrmurcia.com/wp-content/uploads/2021/08/V-CONCURSO-NACIONAL-DE-DIRECCION-MAESTRO-GALINDO-Asociacion-Banda-de-Musica-de-Calasparra.jpeg
END:VEVENT
END:VCALENDAR