BEGIN:VCALENDAR
VERSION:2.0
PRODID:-//Federación de Bandas de Música de la Región de Murcia - ECPv5.5.0.1//NONSGML v1.0//EN
CALSCALE:GREGORIAN
METHOD:PUBLISH
X-WR-CALNAME:Federación de Bandas de Música de la Región de Murcia
X-ORIGINAL-URL:https://www.febandasrmurcia.com
X-WR-CALDESC:Eventos para Federación de Bandas de Música de la Región de Murcia
BEGIN:VTIMEZONE
TZID:Europe/Madrid
BEGIN:DAYLIGHT
TZOFFSETFROM:+0100
TZOFFSETTO:+0200
TZNAME:CEST
DTSTART:20220327T010000
END:DAYLIGHT
BEGIN:STANDARD
TZOFFSETFROM:+0200
TZOFFSETTO:+0100
TZNAME:CET
DTSTART:20221030T010000
END:STANDARD
END:VTIMEZONE
BEGIN:VEVENT
DTSTART;TZID=Europe/Madrid:20220327T121500
DTEND;TZID=Europe/Madrid:20220327T140000
DTSTAMP:20260422T230249
CREATED:20220324T172950Z
LAST-MODIFIED:20220324T172950Z
UID:7747-1648383300-1648389600@www.febandasrmurcia.com
SUMMARY:X CERTAMEN MÚSICA RELIGIOSA - Unión Musical de Abanilla
DESCRIPTION:
URL:https://www.febandasrmurcia.com/eventos/x-certamen-musica-religiosa-union-musical-de-abanilla/
ATTACH;FMTTYPE=image/jpeg:https://www.febandasrmurcia.com/wp-content/uploads/2022/03/X-CERTAMEN-MUSICA-RELIGIOSA-Union-Musical-de-Abanilla.jpg
END:VEVENT
END:VCALENDAR